BEGIN:VCALENDAR
VERSION:2.0
PRODID:-//Omas gegen Rechts - Freiburg - ECPv6.15.20//NONSGML v1.0//EN
CALSCALE:GREGORIAN
METHOD:PUBLISH
X-WR-CALNAME:Omas gegen Rechts - Freiburg
X-ORIGINAL-URL:https://omasgegenrechts-freiburg.de
X-WR-CALDESC:Veranstaltungen für Omas gegen Rechts - Freiburg
REFRESH-INTERVAL;VALUE=DURATION:PT1H
X-Robots-Tag:noindex
X-PUBLISHED-TTL:PT1H
BEGIN:VTIMEZONE
TZID:Europe/Berlin
BEGIN:DAYLIGHT
TZOFFSETFROM:+0100
TZOFFSETTO:+0200
TZNAME:CEST
DTSTART:20240331T010000
END:DAYLIGHT
BEGIN:STANDARD
TZOFFSETFROM:+0200
TZOFFSETTO:+0100
TZNAME:CET
DTSTART:20241027T010000
END:STANDARD
BEGIN:DAYLIGHT
TZOFFSETFROM:+0100
TZOFFSETTO:+0200
TZNAME:CEST
DTSTART:20250330T010000
END:DAYLIGHT
BEGIN:STANDARD
TZOFFSETFROM:+0200
TZOFFSETTO:+0100
TZNAME:CET
DTSTART:20251026T010000
END:STANDARD
BEGIN:DAYLIGHT
TZOFFSETFROM:+0100
TZOFFSETTO:+0200
TZNAME:CEST
DTSTART:20260329T010000
END:DAYLIGHT
BEGIN:STANDARD
TZOFFSETFROM:+0200
TZOFFSETTO:+0100
TZNAME:CET
DTSTART:20261025T010000
END:STANDARD
BEGIN:DAYLIGHT
TZOFFSETFROM:+0100
TZOFFSETTO:+0200
TZNAME:CEST
DTSTART:20270328T010000
END:DAYLIGHT
BEGIN:STANDARD
TZOFFSETFROM:+0200
TZOFFSETTO:+0100
TZNAME:CET
DTSTART:20271031T010000
END:STANDARD
END:VTIMEZONE
BEGIN:VEVENT
DTSTART;TZID=Europe/Berlin:20260407T180000
DTEND;TZID=Europe/Berlin:20260407T210000
DTSTAMP:20260424T224521
CREATED:20260302T035900Z
LAST-MODIFIED:20260306T213136Z
UID:4440-1775584800-1775595600@omasgegenrechts-freiburg.de
SUMMARY:Frauenstammtisch der OMAS GEGEN RECHTS FREIBURG - für Demokratie und Menschenwürde
DESCRIPTION:
URL:https://omasgegenrechts-freiburg.de/termine/frauenstammtisch/
LOCATION:Restaurant Castillo\, Nägeleseestraße 20\, 79102 Freiburg\, 79102\, Germany
END:VEVENT
BEGIN:VEVENT
DTSTART;TZID=Europe/Berlin:20260303T180000
DTEND;TZID=Europe/Berlin:20260303T210000
DTSTAMP:20260424T224521
CREATED:20250919T204604Z
LAST-MODIFIED:20260302T035521Z
UID:4330-1772560800-1772571600@omasgegenrechts-freiburg.de
SUMMARY:Frauenstammtisch der OMAS GEGEN RECHTS FREIBURG - für Demokratie und Menschenwürde
DESCRIPTION:
URL:https://omasgegenrechts-freiburg.de/termine/frauenstammtisch-der-omas-gegen-rechts-freiburg-fuer-demokratie-und-menschenwuerde/
LOCATION:Restaurant Castillo\, Nägeleseestraße 20\, 79102 Freiburg\, 79102\, Germany
CATEGORIES:Begegnungen
END:VEVENT
BEGIN:VEVENT
DTSTART;TZID=Europe/Berlin:20260203T180000
DTEND;TZID=Europe/Berlin:20260203T210000
DTSTAMP:20260424T224521
CREATED:20250919T204127Z
LAST-MODIFIED:20260106T203811Z
UID:4327-1770141600-1770152400@omasgegenrechts-freiburg.de
SUMMARY:Frauenstammtisch Omas gegen Rechts Freiburg- für Demokratie und Menschenwürde
DESCRIPTION:
URL:https://omasgegenrechts-freiburg.de/termine/frauenstammtisch-omas-gegen-rechts-freiburg-fuer-demokratie-und-menshenwuerde/
LOCATION:Restaurant Castillo\, Nägeleseestraße 20\, 79102 Freiburg\, 79102\, Germany
CATEGORIES:Begegnungen
END:VEVENT
BEGIN:VEVENT
DTSTART;TZID=Europe/Berlin:20250902T180000
DTEND;TZID=Europe/Berlin:20250902T210000
DTSTAMP:20260424T224521
CREATED:20250728T202829Z
LAST-MODIFIED:20250728T211657Z
UID:4209-1756836000-1756846800@omasgegenrechts-freiburg.de
SUMMARY:Frauenstammtisch Omas gegen Rechts Freiburg
DESCRIPTION:
URL:https://omasgegenrechts-freiburg.de/termine/frauenstammtisch-2/
LOCATION:Restaurant Castillo\, Nägeleseestraße 20\, 79102 Freiburg\, 79102\, Germany
CATEGORIES:Begegnungen
END:VEVENT
END:VCALENDAR