BEGIN:VCALENDAR
VERSION:2.0
PRODID:-//Omas gegen Rechts - Freiburg - ECPv6.15.20//NONSGML v1.0//EN
CALSCALE:GREGORIAN
METHOD:PUBLISH
X-ORIGINAL-URL:https://omasgegenrechts-freiburg.de
X-WR-CALDESC:Veranstaltungen für Omas gegen Rechts - Freiburg
REFRESH-INTERVAL;VALUE=DURATION:PT1H
X-Robots-Tag:noindex
X-PUBLISHED-TTL:PT1H
BEGIN:VTIMEZONE
TZID:Europe/Berlin
BEGIN:DAYLIGHT
TZOFFSETFROM:+0100
TZOFFSETTO:+0200
TZNAME:CEST
DTSTART:20250330T010000
END:DAYLIGHT
BEGIN:STANDARD
TZOFFSETFROM:+0200
TZOFFSETTO:+0100
TZNAME:CET
DTSTART:20251026T010000
END:STANDARD
BEGIN:DAYLIGHT
TZOFFSETFROM:+0100
TZOFFSETTO:+0200
TZNAME:CEST
DTSTART:20260329T010000
END:DAYLIGHT
BEGIN:STANDARD
TZOFFSETFROM:+0200
TZOFFSETTO:+0100
TZNAME:CET
DTSTART:20261025T010000
END:STANDARD
BEGIN:DAYLIGHT
TZOFFSETFROM:+0100
TZOFFSETTO:+0200
TZNAME:CEST
DTSTART:20270328T010000
END:DAYLIGHT
BEGIN:STANDARD
TZOFFSETFROM:+0200
TZOFFSETTO:+0100
TZNAME:CET
DTSTART:20271031T010000
END:STANDARD
END:VTIMEZONE
BEGIN:VEVENT
DTSTART;TZID=Europe/Berlin:20260503T110000
DTEND;TZID=Europe/Berlin:20260503T183000
DTSTAMP:20260419T155027
CREATED:20260412T154449Z
LAST-MODIFIED:20260412T154449Z
UID:5479-1777806000-1777833000@omasgegenrechts-freiburg.de
SUMMARY:Run for Europe
DESCRIPTION:
URL:https://omasgegenrechts-freiburg.de/termine/run-for-europe/
LOCATION:Marktplatz Breisach\, Marktplatz\, Breisach\, Germany
CATEGORIES:Demo,Fest
END:VEVENT
END:VCALENDAR