BEGIN:VCALENDAR
VERSION:2.0
PRODID:-//Omas gegen Rechts - Freiburg - ECPv6.15.20//NONSGML v1.0//EN
CALSCALE:GREGORIAN
METHOD:PUBLISH
X-ORIGINAL-URL:https://omasgegenrechts-freiburg.de
X-WR-CALDESC:Veranstaltungen für Omas gegen Rechts - Freiburg
REFRESH-INTERVAL;VALUE=DURATION:PT1H
X-Robots-Tag:noindex
X-PUBLISHED-TTL:PT1H
BEGIN:VTIMEZONE
TZID:Europe/Berlin
BEGIN:DAYLIGHT
TZOFFSETFROM:+0100
TZOFFSETTO:+0200
TZNAME:CEST
DTSTART:20250330T010000
END:DAYLIGHT
BEGIN:STANDARD
TZOFFSETFROM:+0200
TZOFFSETTO:+0100
TZNAME:CET
DTSTART:20251026T010000
END:STANDARD
BEGIN:DAYLIGHT
TZOFFSETFROM:+0100
TZOFFSETTO:+0200
TZNAME:CEST
DTSTART:20260329T010000
END:DAYLIGHT
BEGIN:STANDARD
TZOFFSETFROM:+0200
TZOFFSETTO:+0100
TZNAME:CET
DTSTART:20261025T010000
END:STANDARD
BEGIN:DAYLIGHT
TZOFFSETFROM:+0100
TZOFFSETTO:+0200
TZNAME:CEST
DTSTART:20270328T010000
END:DAYLIGHT
BEGIN:STANDARD
TZOFFSETFROM:+0200
TZOFFSETTO:+0100
TZNAME:CET
DTSTART:20271031T010000
END:STANDARD
BEGIN:DAYLIGHT
TZOFFSETFROM:+0100
TZOFFSETTO:+0200
TZNAME:CEST
DTSTART:20280326T010000
END:DAYLIGHT
BEGIN:STANDARD
TZOFFSETFROM:+0200
TZOFFSETTO:+0100
TZNAME:CET
DTSTART:20281029T010000
END:STANDARD
END:VTIMEZONE
BEGIN:VEVENT
DTSTART;TZID=Europe/Berlin:20260708T103000
DTEND;TZID=Europe/Berlin:20260708T123000
DTSTAMP:20260424T193421
CREATED:20260308T012745Z
LAST-MODIFIED:20260308T012918Z
UID:5080-1783506600-1783513800@omasgegenrechts-freiburg.de
SUMMARY:OMAS Bank
DESCRIPTION:Jeden Mittwoch zu Marktzeiten\, sitzen zwei OMAs in Weingarten\, jede auf einer Bank. Ob jung oder alt\, jede und jeder\, der reden möchte\, ist willkommen und kann sich neben der OMA auf das freie Kissen setzen. Die OMA hört ihr bzw. ihm gerne zu. \nFalls es regnet\, schneit oder zu kalt ist\, fällt OMAs Bank freilich aus.
URL:https://omasgegenrechts-freiburg.de/termine/omas-bank/2026-07-08/
LOCATION:Fritz Schieler Platz Weingarten\, Fritz Schieler Paltz Weingarten\, Freiburg
CATEGORIES:Omas Bank
END:VEVENT
BEGIN:VEVENT
DTSTART;TZID=Europe/Berlin:20260715T103000
DTEND;TZID=Europe/Berlin:20260715T123000
DTSTAMP:20260424T193421
CREATED:20260308T012745Z
LAST-MODIFIED:20260308T012918Z
UID:5081-1784111400-1784118600@omasgegenrechts-freiburg.de
SUMMARY:OMAS Bank
DESCRIPTION:Jeden Mittwoch zu Marktzeiten\, sitzen zwei OMAs in Weingarten\, jede auf einer Bank. Ob jung oder alt\, jede und jeder\, der reden möchte\, ist willkommen und kann sich neben der OMA auf das freie Kissen setzen. Die OMA hört ihr bzw. ihm gerne zu. \nFalls es regnet\, schneit oder zu kalt ist\, fällt OMAs Bank freilich aus.
URL:https://omasgegenrechts-freiburg.de/termine/omas-bank/2026-07-15/
LOCATION:Fritz Schieler Platz Weingarten\, Fritz Schieler Paltz Weingarten\, Freiburg
CATEGORIES:Omas Bank
END:VEVENT
BEGIN:VEVENT
DTSTART;TZID=Europe/Berlin:20260722T103000
DTEND;TZID=Europe/Berlin:20260722T123000
DTSTAMP:20260424T193421
CREATED:20260308T012745Z
LAST-MODIFIED:20260308T012918Z
UID:5082-1784716200-1784723400@omasgegenrechts-freiburg.de
SUMMARY:OMAS Bank
DESCRIPTION:Jeden Mittwoch zu Marktzeiten\, sitzen zwei OMAs in Weingarten\, jede auf einer Bank. Ob jung oder alt\, jede und jeder\, der reden möchte\, ist willkommen und kann sich neben der OMA auf das freie Kissen setzen. Die OMA hört ihr bzw. ihm gerne zu. \nFalls es regnet\, schneit oder zu kalt ist\, fällt OMAs Bank freilich aus.
URL:https://omasgegenrechts-freiburg.de/termine/omas-bank/2026-07-22/
LOCATION:Fritz Schieler Platz Weingarten\, Fritz Schieler Paltz Weingarten\, Freiburg
CATEGORIES:Omas Bank
END:VEVENT
BEGIN:VEVENT
DTSTART;TZID=Europe/Berlin:20260729T103000
DTEND;TZID=Europe/Berlin:20260729T123000
DTSTAMP:20260424T193421
CREATED:20260308T012745Z
LAST-MODIFIED:20260308T012918Z
UID:5083-1785321000-1785328200@omasgegenrechts-freiburg.de
SUMMARY:OMAS Bank
DESCRIPTION:Jeden Mittwoch zu Marktzeiten\, sitzen zwei OMAs in Weingarten\, jede auf einer Bank. Ob jung oder alt\, jede und jeder\, der reden möchte\, ist willkommen und kann sich neben der OMA auf das freie Kissen setzen. Die OMA hört ihr bzw. ihm gerne zu. \nFalls es regnet\, schneit oder zu kalt ist\, fällt OMAs Bank freilich aus.
URL:https://omasgegenrechts-freiburg.de/termine/omas-bank/2026-07-29/
LOCATION:Fritz Schieler Platz Weingarten\, Fritz Schieler Paltz Weingarten\, Freiburg
CATEGORIES:Omas Bank
END:VEVENT
BEGIN:VEVENT
DTSTART;TZID=Europe/Berlin:20260805T103000
DTEND;TZID=Europe/Berlin:20260805T123000
DTSTAMP:20260424T193421
CREATED:20260308T012745Z
LAST-MODIFIED:20260308T012919Z
UID:5084-1785925800-1785933000@omasgegenrechts-freiburg.de
SUMMARY:OMAS Bank
DESCRIPTION:Jeden Mittwoch zu Marktzeiten\, sitzen zwei OMAs in Weingarten\, jede auf einer Bank. Ob jung oder alt\, jede und jeder\, der reden möchte\, ist willkommen und kann sich neben der OMA auf das freie Kissen setzen. Die OMA hört ihr bzw. ihm gerne zu. \nFalls es regnet\, schneit oder zu kalt ist\, fällt OMAs Bank freilich aus.
URL:https://omasgegenrechts-freiburg.de/termine/omas-bank/2026-08-05/
LOCATION:Fritz Schieler Platz Weingarten\, Fritz Schieler Paltz Weingarten\, Freiburg
CATEGORIES:Omas Bank
END:VEVENT
BEGIN:VEVENT
DTSTART;TZID=Europe/Berlin:20260812T103000
DTEND;TZID=Europe/Berlin:20260812T123000
DTSTAMP:20260424T193421
CREATED:20260308T012745Z
LAST-MODIFIED:20260308T012919Z
UID:5085-1786530600-1786537800@omasgegenrechts-freiburg.de
SUMMARY:OMAS Bank
DESCRIPTION:Jeden Mittwoch zu Marktzeiten\, sitzen zwei OMAs in Weingarten\, jede auf einer Bank. Ob jung oder alt\, jede und jeder\, der reden möchte\, ist willkommen und kann sich neben der OMA auf das freie Kissen setzen. Die OMA hört ihr bzw. ihm gerne zu. \nFalls es regnet\, schneit oder zu kalt ist\, fällt OMAs Bank freilich aus.
URL:https://omasgegenrechts-freiburg.de/termine/omas-bank/2026-08-12/
LOCATION:Fritz Schieler Platz Weingarten\, Fritz Schieler Paltz Weingarten\, Freiburg
CATEGORIES:Omas Bank
END:VEVENT
BEGIN:VEVENT
DTSTART;TZID=Europe/Berlin:20260819T103000
DTEND;TZID=Europe/Berlin:20260819T123000
DTSTAMP:20260424T193421
CREATED:20260308T012745Z
LAST-MODIFIED:20260308T012919Z
UID:5086-1787135400-1787142600@omasgegenrechts-freiburg.de
SUMMARY:OMAS Bank
DESCRIPTION:Jeden Mittwoch zu Marktzeiten\, sitzen zwei OMAs in Weingarten\, jede auf einer Bank. Ob jung oder alt\, jede und jeder\, der reden möchte\, ist willkommen und kann sich neben der OMA auf das freie Kissen setzen. Die OMA hört ihr bzw. ihm gerne zu. \nFalls es regnet\, schneit oder zu kalt ist\, fällt OMAs Bank freilich aus.
URL:https://omasgegenrechts-freiburg.de/termine/omas-bank/2026-08-19/
LOCATION:Fritz Schieler Platz Weingarten\, Fritz Schieler Paltz Weingarten\, Freiburg
CATEGORIES:Omas Bank
END:VEVENT
BEGIN:VEVENT
DTSTART;TZID=Europe/Berlin:20260826T103000
DTEND;TZID=Europe/Berlin:20260826T123000
DTSTAMP:20260424T193421
CREATED:20260308T012745Z
LAST-MODIFIED:20260308T012919Z
UID:5087-1787740200-1787747400@omasgegenrechts-freiburg.de
SUMMARY:OMAS Bank
DESCRIPTION:Jeden Mittwoch zu Marktzeiten\, sitzen zwei OMAs in Weingarten\, jede auf einer Bank. Ob jung oder alt\, jede und jeder\, der reden möchte\, ist willkommen und kann sich neben der OMA auf das freie Kissen setzen. Die OMA hört ihr bzw. ihm gerne zu. \nFalls es regnet\, schneit oder zu kalt ist\, fällt OMAs Bank freilich aus.
URL:https://omasgegenrechts-freiburg.de/termine/omas-bank/2026-08-26/
LOCATION:Fritz Schieler Platz Weingarten\, Fritz Schieler Paltz Weingarten\, Freiburg
CATEGORIES:Omas Bank
END:VEVENT
BEGIN:VEVENT
DTSTART;TZID=Europe/Berlin:20260902T103000
DTEND;TZID=Europe/Berlin:20260902T123000
DTSTAMP:20260424T193421
CREATED:20260308T012745Z
LAST-MODIFIED:20260308T012919Z
UID:5088-1788345000-1788352200@omasgegenrechts-freiburg.de
SUMMARY:OMAS Bank
DESCRIPTION:Jeden Mittwoch zu Marktzeiten\, sitzen zwei OMAs in Weingarten\, jede auf einer Bank. Ob jung oder alt\, jede und jeder\, der reden möchte\, ist willkommen und kann sich neben der OMA auf das freie Kissen setzen. Die OMA hört ihr bzw. ihm gerne zu. \nFalls es regnet\, schneit oder zu kalt ist\, fällt OMAs Bank freilich aus.
URL:https://omasgegenrechts-freiburg.de/termine/omas-bank/2026-09-02/
LOCATION:Fritz Schieler Platz Weingarten\, Fritz Schieler Paltz Weingarten\, Freiburg
CATEGORIES:Omas Bank
END:VEVENT
BEGIN:VEVENT
DTSTART;TZID=Europe/Berlin:20260909T103000
DTEND;TZID=Europe/Berlin:20260909T123000
DTSTAMP:20260424T193421
CREATED:20260308T012745Z
LAST-MODIFIED:20260308T012920Z
UID:5089-1788949800-1788957000@omasgegenrechts-freiburg.de
SUMMARY:OMAS Bank
DESCRIPTION:Jeden Mittwoch zu Marktzeiten\, sitzen zwei OMAs in Weingarten\, jede auf einer Bank. Ob jung oder alt\, jede und jeder\, der reden möchte\, ist willkommen und kann sich neben der OMA auf das freie Kissen setzen. Die OMA hört ihr bzw. ihm gerne zu. \nFalls es regnet\, schneit oder zu kalt ist\, fällt OMAs Bank freilich aus.
URL:https://omasgegenrechts-freiburg.de/termine/omas-bank/2026-09-09/
LOCATION:Fritz Schieler Platz Weingarten\, Fritz Schieler Paltz Weingarten\, Freiburg
CATEGORIES:Omas Bank
END:VEVENT
BEGIN:VEVENT
DTSTART;TZID=Europe/Berlin:20260916T103000
DTEND;TZID=Europe/Berlin:20260916T123000
DTSTAMP:20260424T193421
CREATED:20260308T012745Z
LAST-MODIFIED:20260308T012920Z
UID:5090-1789554600-1789561800@omasgegenrechts-freiburg.de
SUMMARY:OMAS Bank
DESCRIPTION:Jeden Mittwoch zu Marktzeiten\, sitzen zwei OMAs in Weingarten\, jede auf einer Bank. Ob jung oder alt\, jede und jeder\, der reden möchte\, ist willkommen und kann sich neben der OMA auf das freie Kissen setzen. Die OMA hört ihr bzw. ihm gerne zu. \nFalls es regnet\, schneit oder zu kalt ist\, fällt OMAs Bank freilich aus.
URL:https://omasgegenrechts-freiburg.de/termine/omas-bank/2026-09-16/
LOCATION:Fritz Schieler Platz Weingarten\, Fritz Schieler Paltz Weingarten\, Freiburg
CATEGORIES:Omas Bank
END:VEVENT
BEGIN:VEVENT
DTSTART;TZID=Europe/Berlin:20260923T103000
DTEND;TZID=Europe/Berlin:20260923T123000
DTSTAMP:20260424T193421
CREATED:20260308T012745Z
LAST-MODIFIED:20260308T012920Z
UID:5091-1790159400-1790166600@omasgegenrechts-freiburg.de
SUMMARY:OMAS Bank
DESCRIPTION:Jeden Mittwoch zu Marktzeiten\, sitzen zwei OMAs in Weingarten\, jede auf einer Bank. Ob jung oder alt\, jede und jeder\, der reden möchte\, ist willkommen und kann sich neben der OMA auf das freie Kissen setzen. Die OMA hört ihr bzw. ihm gerne zu. \nFalls es regnet\, schneit oder zu kalt ist\, fällt OMAs Bank freilich aus.
URL:https://omasgegenrechts-freiburg.de/termine/omas-bank/2026-09-23/
LOCATION:Fritz Schieler Platz Weingarten\, Fritz Schieler Paltz Weingarten\, Freiburg
CATEGORIES:Omas Bank
END:VEVENT
BEGIN:VEVENT
DTSTART;TZID=Europe/Berlin:20260930T103000
DTEND;TZID=Europe/Berlin:20260930T123000
DTSTAMP:20260424T193421
CREATED:20260308T012745Z
LAST-MODIFIED:20260308T012920Z
UID:5092-1790764200-1790771400@omasgegenrechts-freiburg.de
SUMMARY:OMAS Bank
DESCRIPTION:Jeden Mittwoch zu Marktzeiten\, sitzen zwei OMAs in Weingarten\, jede auf einer Bank. Ob jung oder alt\, jede und jeder\, der reden möchte\, ist willkommen und kann sich neben der OMA auf das freie Kissen setzen. Die OMA hört ihr bzw. ihm gerne zu. \nFalls es regnet\, schneit oder zu kalt ist\, fällt OMAs Bank freilich aus.
URL:https://omasgegenrechts-freiburg.de/termine/omas-bank/2026-09-30/
LOCATION:Fritz Schieler Platz Weingarten\, Fritz Schieler Paltz Weingarten\, Freiburg
CATEGORIES:Omas Bank
END:VEVENT
BEGIN:VEVENT
DTSTART;TZID=Europe/Berlin:20261007T103000
DTEND;TZID=Europe/Berlin:20261007T123000
DTSTAMP:20260424T193421
CREATED:20260308T012745Z
LAST-MODIFIED:20260308T012920Z
UID:5093-1791369000-1791376200@omasgegenrechts-freiburg.de
SUMMARY:OMAS Bank
DESCRIPTION:Jeden Mittwoch zu Marktzeiten\, sitzen zwei OMAs in Weingarten\, jede auf einer Bank. Ob jung oder alt\, jede und jeder\, der reden möchte\, ist willkommen und kann sich neben der OMA auf das freie Kissen setzen. Die OMA hört ihr bzw. ihm gerne zu. \nFalls es regnet\, schneit oder zu kalt ist\, fällt OMAs Bank freilich aus.
URL:https://omasgegenrechts-freiburg.de/termine/omas-bank/2026-10-07/
LOCATION:Fritz Schieler Platz Weingarten\, Fritz Schieler Paltz Weingarten\, Freiburg
CATEGORIES:Omas Bank
END:VEVENT
BEGIN:VEVENT
DTSTART;TZID=Europe/Berlin:20261014T103000
DTEND;TZID=Europe/Berlin:20261014T123000
DTSTAMP:20260424T193421
CREATED:20260308T012745Z
LAST-MODIFIED:20260308T012921Z
UID:5094-1791973800-1791981000@omasgegenrechts-freiburg.de
SUMMARY:OMAS Bank
DESCRIPTION:Jeden Mittwoch zu Marktzeiten\, sitzen zwei OMAs in Weingarten\, jede auf einer Bank. Ob jung oder alt\, jede und jeder\, der reden möchte\, ist willkommen und kann sich neben der OMA auf das freie Kissen setzen. Die OMA hört ihr bzw. ihm gerne zu. \nFalls es regnet\, schneit oder zu kalt ist\, fällt OMAs Bank freilich aus.
URL:https://omasgegenrechts-freiburg.de/termine/omas-bank/2026-10-14/
LOCATION:Fritz Schieler Platz Weingarten\, Fritz Schieler Paltz Weingarten\, Freiburg
CATEGORIES:Omas Bank
END:VEVENT
BEGIN:VEVENT
DTSTART;TZID=Europe/Berlin:20261021T103000
DTEND;TZID=Europe/Berlin:20261021T123000
DTSTAMP:20260424T193421
CREATED:20260308T012745Z
LAST-MODIFIED:20260308T012921Z
UID:5095-1792578600-1792585800@omasgegenrechts-freiburg.de
SUMMARY:OMAS Bank
DESCRIPTION:Jeden Mittwoch zu Marktzeiten\, sitzen zwei OMAs in Weingarten\, jede auf einer Bank. Ob jung oder alt\, jede und jeder\, der reden möchte\, ist willkommen und kann sich neben der OMA auf das freie Kissen setzen. Die OMA hört ihr bzw. ihm gerne zu. \nFalls es regnet\, schneit oder zu kalt ist\, fällt OMAs Bank freilich aus.
URL:https://omasgegenrechts-freiburg.de/termine/omas-bank/2026-10-21/
LOCATION:Fritz Schieler Platz Weingarten\, Fritz Schieler Paltz Weingarten\, Freiburg
CATEGORIES:Omas Bank
END:VEVENT
BEGIN:VEVENT
DTSTART;TZID=Europe/Berlin:20261028T103000
DTEND;TZID=Europe/Berlin:20261028T123000
DTSTAMP:20260424T193421
CREATED:20260308T012745Z
LAST-MODIFIED:20260308T012921Z
UID:5096-1793183400-1793190600@omasgegenrechts-freiburg.de
SUMMARY:OMAS Bank
DESCRIPTION:Jeden Mittwoch zu Marktzeiten\, sitzen zwei OMAs in Weingarten\, jede auf einer Bank. Ob jung oder alt\, jede und jeder\, der reden möchte\, ist willkommen und kann sich neben der OMA auf das freie Kissen setzen. Die OMA hört ihr bzw. ihm gerne zu. \nFalls es regnet\, schneit oder zu kalt ist\, fällt OMAs Bank freilich aus.
URL:https://omasgegenrechts-freiburg.de/termine/omas-bank/2026-10-28/
LOCATION:Fritz Schieler Platz Weingarten\, Fritz Schieler Paltz Weingarten\, Freiburg
CATEGORIES:Omas Bank
END:VEVENT
BEGIN:VEVENT
DTSTART;TZID=Europe/Berlin:20261104T103000
DTEND;TZID=Europe/Berlin:20261104T123000
DTSTAMP:20260424T193421
CREATED:20260308T012745Z
LAST-MODIFIED:20260308T012921Z
UID:5097-1793788200-1793795400@omasgegenrechts-freiburg.de
SUMMARY:OMAS Bank
DESCRIPTION:Jeden Mittwoch zu Marktzeiten\, sitzen zwei OMAs in Weingarten\, jede auf einer Bank. Ob jung oder alt\, jede und jeder\, der reden möchte\, ist willkommen und kann sich neben der OMA auf das freie Kissen setzen. Die OMA hört ihr bzw. ihm gerne zu. \nFalls es regnet\, schneit oder zu kalt ist\, fällt OMAs Bank freilich aus.
URL:https://omasgegenrechts-freiburg.de/termine/omas-bank/2026-11-04/
LOCATION:Fritz Schieler Platz Weingarten\, Fritz Schieler Paltz Weingarten\, Freiburg
CATEGORIES:Omas Bank
END:VEVENT
BEGIN:VEVENT
DTSTART;TZID=Europe/Berlin:20261111T103000
DTEND;TZID=Europe/Berlin:20261111T123000
DTSTAMP:20260424T193421
CREATED:20260308T012745Z
LAST-MODIFIED:20260308T012922Z
UID:5098-1794393000-1794400200@omasgegenrechts-freiburg.de
SUMMARY:OMAS Bank
DESCRIPTION:Jeden Mittwoch zu Marktzeiten\, sitzen zwei OMAs in Weingarten\, jede auf einer Bank. Ob jung oder alt\, jede und jeder\, der reden möchte\, ist willkommen und kann sich neben der OMA auf das freie Kissen setzen. Die OMA hört ihr bzw. ihm gerne zu. \nFalls es regnet\, schneit oder zu kalt ist\, fällt OMAs Bank freilich aus.
URL:https://omasgegenrechts-freiburg.de/termine/omas-bank/2026-11-11/
LOCATION:Fritz Schieler Platz Weingarten\, Fritz Schieler Paltz Weingarten\, Freiburg
CATEGORIES:Omas Bank
END:VEVENT
BEGIN:VEVENT
DTSTART;TZID=Europe/Berlin:20261118T103000
DTEND;TZID=Europe/Berlin:20261118T123000
DTSTAMP:20260424T193421
CREATED:20260308T012745Z
LAST-MODIFIED:20260308T012922Z
UID:5099-1794997800-1795005000@omasgegenrechts-freiburg.de
SUMMARY:OMAS Bank
DESCRIPTION:Jeden Mittwoch zu Marktzeiten\, sitzen zwei OMAs in Weingarten\, jede auf einer Bank. Ob jung oder alt\, jede und jeder\, der reden möchte\, ist willkommen und kann sich neben der OMA auf das freie Kissen setzen. Die OMA hört ihr bzw. ihm gerne zu. \nFalls es regnet\, schneit oder zu kalt ist\, fällt OMAs Bank freilich aus.
URL:https://omasgegenrechts-freiburg.de/termine/omas-bank/2026-11-18/
LOCATION:Fritz Schieler Platz Weingarten\, Fritz Schieler Paltz Weingarten\, Freiburg
CATEGORIES:Omas Bank
END:VEVENT
BEGIN:VEVENT
DTSTART;TZID=Europe/Berlin:20261125T103000
DTEND;TZID=Europe/Berlin:20261125T123000
DTSTAMP:20260424T193421
CREATED:20260308T012745Z
LAST-MODIFIED:20260308T012922Z
UID:5100-1795602600-1795609800@omasgegenrechts-freiburg.de
SUMMARY:OMAS Bank
DESCRIPTION:Jeden Mittwoch zu Marktzeiten\, sitzen zwei OMAs in Weingarten\, jede auf einer Bank. Ob jung oder alt\, jede und jeder\, der reden möchte\, ist willkommen und kann sich neben der OMA auf das freie Kissen setzen. Die OMA hört ihr bzw. ihm gerne zu. \nFalls es regnet\, schneit oder zu kalt ist\, fällt OMAs Bank freilich aus.
URL:https://omasgegenrechts-freiburg.de/termine/omas-bank/2026-11-25/
LOCATION:Fritz Schieler Platz Weingarten\, Fritz Schieler Paltz Weingarten\, Freiburg
CATEGORIES:Omas Bank
END:VEVENT
BEGIN:VEVENT
DTSTART;TZID=Europe/Berlin:20261202T103000
DTEND;TZID=Europe/Berlin:20261202T123000
DTSTAMP:20260424T193421
CREATED:20260308T012745Z
LAST-MODIFIED:20260308T012922Z
UID:5101-1796207400-1796214600@omasgegenrechts-freiburg.de
SUMMARY:OMAS Bank
DESCRIPTION:Jeden Mittwoch zu Marktzeiten\, sitzen zwei OMAs in Weingarten\, jede auf einer Bank. Ob jung oder alt\, jede und jeder\, der reden möchte\, ist willkommen und kann sich neben der OMA auf das freie Kissen setzen. Die OMA hört ihr bzw. ihm gerne zu. \nFalls es regnet\, schneit oder zu kalt ist\, fällt OMAs Bank freilich aus.
URL:https://omasgegenrechts-freiburg.de/termine/omas-bank/2026-12-02/
LOCATION:Fritz Schieler Platz Weingarten\, Fritz Schieler Paltz Weingarten\, Freiburg
CATEGORIES:Omas Bank
END:VEVENT
BEGIN:VEVENT
DTSTART;TZID=Europe/Berlin:20261209T103000
DTEND;TZID=Europe/Berlin:20261209T123000
DTSTAMP:20260424T193422
CREATED:20260308T012745Z
LAST-MODIFIED:20260308T012922Z
UID:5102-1796812200-1796819400@omasgegenrechts-freiburg.de
SUMMARY:OMAS Bank
DESCRIPTION:Jeden Mittwoch zu Marktzeiten\, sitzen zwei OMAs in Weingarten\, jede auf einer Bank. Ob jung oder alt\, jede und jeder\, der reden möchte\, ist willkommen und kann sich neben der OMA auf das freie Kissen setzen. Die OMA hört ihr bzw. ihm gerne zu. \nFalls es regnet\, schneit oder zu kalt ist\, fällt OMAs Bank freilich aus.
URL:https://omasgegenrechts-freiburg.de/termine/omas-bank/2026-12-09/
LOCATION:Fritz Schieler Platz Weingarten\, Fritz Schieler Paltz Weingarten\, Freiburg
CATEGORIES:Omas Bank
END:VEVENT
BEGIN:VEVENT
DTSTART;TZID=Europe/Berlin:20261216T103000
DTEND;TZID=Europe/Berlin:20261216T123000
DTSTAMP:20260424T193422
CREATED:20260308T012745Z
LAST-MODIFIED:20260308T012922Z
UID:5103-1797417000-1797424200@omasgegenrechts-freiburg.de
SUMMARY:OMAS Bank
DESCRIPTION:Jeden Mittwoch zu Marktzeiten\, sitzen zwei OMAs in Weingarten\, jede auf einer Bank. Ob jung oder alt\, jede und jeder\, der reden möchte\, ist willkommen und kann sich neben der OMA auf das freie Kissen setzen. Die OMA hört ihr bzw. ihm gerne zu. \nFalls es regnet\, schneit oder zu kalt ist\, fällt OMAs Bank freilich aus.
URL:https://omasgegenrechts-freiburg.de/termine/omas-bank/2026-12-16/
LOCATION:Fritz Schieler Platz Weingarten\, Fritz Schieler Paltz Weingarten\, Freiburg
CATEGORIES:Omas Bank
END:VEVENT
BEGIN:VEVENT
DTSTART;TZID=Europe/Berlin:20261223T103000
DTEND;TZID=Europe/Berlin:20261223T123000
DTSTAMP:20260424T193422
CREATED:20260308T012745Z
LAST-MODIFIED:20260308T012923Z
UID:5104-1798021800-1798029000@omasgegenrechts-freiburg.de
SUMMARY:OMAS Bank
DESCRIPTION:Jeden Mittwoch zu Marktzeiten\, sitzen zwei OMAs in Weingarten\, jede auf einer Bank. Ob jung oder alt\, jede und jeder\, der reden möchte\, ist willkommen und kann sich neben der OMA auf das freie Kissen setzen. Die OMA hört ihr bzw. ihm gerne zu. \nFalls es regnet\, schneit oder zu kalt ist\, fällt OMAs Bank freilich aus.
URL:https://omasgegenrechts-freiburg.de/termine/omas-bank/2026-12-23/
LOCATION:Fritz Schieler Platz Weingarten\, Fritz Schieler Paltz Weingarten\, Freiburg
CATEGORIES:Omas Bank
END:VEVENT
BEGIN:VEVENT
DTSTART;TZID=Europe/Berlin:20261230T103000
DTEND;TZID=Europe/Berlin:20261230T123000
DTSTAMP:20260424T193422
CREATED:20260308T012745Z
LAST-MODIFIED:20260308T012923Z
UID:5105-1798626600-1798633800@omasgegenrechts-freiburg.de
SUMMARY:OMAS Bank
DESCRIPTION:Jeden Mittwoch zu Marktzeiten\, sitzen zwei OMAs in Weingarten\, jede auf einer Bank. Ob jung oder alt\, jede und jeder\, der reden möchte\, ist willkommen und kann sich neben der OMA auf das freie Kissen setzen. Die OMA hört ihr bzw. ihm gerne zu. \nFalls es regnet\, schneit oder zu kalt ist\, fällt OMAs Bank freilich aus.
URL:https://omasgegenrechts-freiburg.de/termine/omas-bank/2026-12-30/
LOCATION:Fritz Schieler Platz Weingarten\, Fritz Schieler Paltz Weingarten\, Freiburg
CATEGORIES:Omas Bank
END:VEVENT
BEGIN:VEVENT
DTSTART;TZID=Europe/Berlin:20270106T103000
DTEND;TZID=Europe/Berlin:20270106T123000
DTSTAMP:20260424T193422
CREATED:20260308T012745Z
LAST-MODIFIED:20260308T012923Z
UID:5106-1799231400-1799238600@omasgegenrechts-freiburg.de
SUMMARY:OMAS Bank
DESCRIPTION:Jeden Mittwoch zu Marktzeiten\, sitzen zwei OMAs in Weingarten\, jede auf einer Bank. Ob jung oder alt\, jede und jeder\, der reden möchte\, ist willkommen und kann sich neben der OMA auf das freie Kissen setzen. Die OMA hört ihr bzw. ihm gerne zu. \nFalls es regnet\, schneit oder zu kalt ist\, fällt OMAs Bank freilich aus.
URL:https://omasgegenrechts-freiburg.de/termine/omas-bank/2027-01-06/
LOCATION:Fritz Schieler Platz Weingarten\, Fritz Schieler Paltz Weingarten\, Freiburg
CATEGORIES:Omas Bank
END:VEVENT
BEGIN:VEVENT
DTSTART;TZID=Europe/Berlin:20270113T103000
DTEND;TZID=Europe/Berlin:20270113T123000
DTSTAMP:20260424T193422
CREATED:20260308T012745Z
LAST-MODIFIED:20260308T012923Z
UID:5107-1799836200-1799843400@omasgegenrechts-freiburg.de
SUMMARY:OMAS Bank
DESCRIPTION:Jeden Mittwoch zu Marktzeiten\, sitzen zwei OMAs in Weingarten\, jede auf einer Bank. Ob jung oder alt\, jede und jeder\, der reden möchte\, ist willkommen und kann sich neben der OMA auf das freie Kissen setzen. Die OMA hört ihr bzw. ihm gerne zu. \nFalls es regnet\, schneit oder zu kalt ist\, fällt OMAs Bank freilich aus.
URL:https://omasgegenrechts-freiburg.de/termine/omas-bank/2027-01-13/
LOCATION:Fritz Schieler Platz Weingarten\, Fritz Schieler Paltz Weingarten\, Freiburg
CATEGORIES:Omas Bank
END:VEVENT
BEGIN:VEVENT
DTSTART;TZID=Europe/Berlin:20270120T103000
DTEND;TZID=Europe/Berlin:20270120T123000
DTSTAMP:20260424T193422
CREATED:20260308T012745Z
LAST-MODIFIED:20260308T012923Z
UID:5108-1800441000-1800448200@omasgegenrechts-freiburg.de
SUMMARY:OMAS Bank
DESCRIPTION:Jeden Mittwoch zu Marktzeiten\, sitzen zwei OMAs in Weingarten\, jede auf einer Bank. Ob jung oder alt\, jede und jeder\, der reden möchte\, ist willkommen und kann sich neben der OMA auf das freie Kissen setzen. Die OMA hört ihr bzw. ihm gerne zu. \nFalls es regnet\, schneit oder zu kalt ist\, fällt OMAs Bank freilich aus.
URL:https://omasgegenrechts-freiburg.de/termine/omas-bank/2027-01-20/
LOCATION:Fritz Schieler Platz Weingarten\, Fritz Schieler Paltz Weingarten\, Freiburg
CATEGORIES:Omas Bank
END:VEVENT
BEGIN:VEVENT
DTSTART;TZID=Europe/Berlin:20270127T103000
DTEND;TZID=Europe/Berlin:20270127T123000
DTSTAMP:20260424T193422
CREATED:20260308T012745Z
LAST-MODIFIED:20260308T012923Z
UID:5109-1801045800-1801053000@omasgegenrechts-freiburg.de
SUMMARY:OMAS Bank
DESCRIPTION:Jeden Mittwoch zu Marktzeiten\, sitzen zwei OMAs in Weingarten\, jede auf einer Bank. Ob jung oder alt\, jede und jeder\, der reden möchte\, ist willkommen und kann sich neben der OMA auf das freie Kissen setzen. Die OMA hört ihr bzw. ihm gerne zu. \nFalls es regnet\, schneit oder zu kalt ist\, fällt OMAs Bank freilich aus.
URL:https://omasgegenrechts-freiburg.de/termine/omas-bank/2027-01-27/
LOCATION:Fritz Schieler Platz Weingarten\, Fritz Schieler Paltz Weingarten\, Freiburg
CATEGORIES:Omas Bank
END:VEVENT
END:VCALENDAR