BEGIN:VCALENDAR
VERSION:2.0
PRODID:-//Omas gegen Rechts - Freiburg - ECPv6.15.20//NONSGML v1.0//EN
CALSCALE:GREGORIAN
METHOD:PUBLISH
X-ORIGINAL-URL:https://omasgegenrechts-freiburg.de
X-WR-CALDESC:Veranstaltungen für Omas gegen Rechts - Freiburg
REFRESH-INTERVAL;VALUE=DURATION:PT1H
X-Robots-Tag:noindex
X-PUBLISHED-TTL:PT1H
BEGIN:VTIMEZONE
TZID:Europe/Berlin
BEGIN:DAYLIGHT
TZOFFSETFROM:+0100
TZOFFSETTO:+0200
TZNAME:CEST
DTSTART:20260329T010000
END:DAYLIGHT
BEGIN:STANDARD
TZOFFSETFROM:+0200
TZOFFSETTO:+0100
TZNAME:CET
DTSTART:20261025T010000
END:STANDARD
BEGIN:DAYLIGHT
TZOFFSETFROM:+0100
TZOFFSETTO:+0200
TZNAME:CEST
DTSTART:20270328T010000
END:DAYLIGHT
BEGIN:STANDARD
TZOFFSETFROM:+0200
TZOFFSETTO:+0100
TZNAME:CET
DTSTART:20271031T010000
END:STANDARD
BEGIN:DAYLIGHT
TZOFFSETFROM:+0100
TZOFFSETTO:+0200
TZNAME:CEST
DTSTART:20280326T010000
END:DAYLIGHT
BEGIN:STANDARD
TZOFFSETFROM:+0200
TZOFFSETTO:+0100
TZNAME:CET
DTSTART:20281029T010000
END:STANDARD
BEGIN:DAYLIGHT
TZOFFSETFROM:+0100
TZOFFSETTO:+0200
TZNAME:CEST
DTSTART:20290325T010000
END:DAYLIGHT
BEGIN:STANDARD
TZOFFSETFROM:+0200
TZOFFSETTO:+0100
TZNAME:CET
DTSTART:20291028T010000
END:STANDARD
END:VTIMEZONE
BEGIN:VEVENT
DTSTART;TZID=Europe/Berlin:20271102T180000
DTEND;TZID=Europe/Berlin:20271102T210000
DTSTAMP:20260425T003834
CREATED:20260307T103354Z
LAST-MODIFIED:20260307T103354Z
UID:5059-1825178400-1825189200@omasgegenrechts-freiburg.de
SUMMARY:Frauenstammtisch der OMAS GEGEN RECHTS FREIBURG - für Demokratie und Menschenwürde
DESCRIPTION:Begrüßung neuer OMAS und Interessierte\, fördert Kennenlernen und Austausch.
URL:https://omasgegenrechts-freiburg.de/termine/frauenstammtisch-der-omas-gegen-rechts-freiburg-fuer-demokratie-und-menschenwuerde-2/2027-11-02/
LOCATION:Restaurant Castillo\, Nägeleseestraße 20\, 79102 Freiburg\, 79102\, Germany
CATEGORIES:Begegnungen,Frauenstammtisch
ATTACH;FMTTYPE=image/jpeg:https://omasgegenrechts-freiburg.de/wp-content/uploads/2019/05/IMG_6820.jpg
END:VEVENT
BEGIN:VEVENT
DTSTART;TZID=Europe/Berlin:20271207T180000
DTEND;TZID=Europe/Berlin:20271207T210000
DTSTAMP:20260425T003834
CREATED:20260307T103354Z
LAST-MODIFIED:20260307T103354Z
UID:5060-1828202400-1828213200@omasgegenrechts-freiburg.de
SUMMARY:Frauenstammtisch der OMAS GEGEN RECHTS FREIBURG - für Demokratie und Menschenwürde
DESCRIPTION:Begrüßung neuer OMAS und Interessierte\, fördert Kennenlernen und Austausch.
URL:https://omasgegenrechts-freiburg.de/termine/frauenstammtisch-der-omas-gegen-rechts-freiburg-fuer-demokratie-und-menschenwuerde-2/2027-12-07/
LOCATION:Restaurant Castillo\, Nägeleseestraße 20\, 79102 Freiburg\, 79102\, Germany
CATEGORIES:Begegnungen,Frauenstammtisch
ATTACH;FMTTYPE=image/jpeg:https://omasgegenrechts-freiburg.de/wp-content/uploads/2019/05/IMG_6820.jpg
END:VEVENT
BEGIN:VEVENT
DTSTART;TZID=Europe/Berlin:20280104T180000
DTEND;TZID=Europe/Berlin:20280104T210000
DTSTAMP:20260425T003834
CREATED:20260307T103354Z
LAST-MODIFIED:20260307T103354Z
UID:5061-1830621600-1830632400@omasgegenrechts-freiburg.de
SUMMARY:Frauenstammtisch der OMAS GEGEN RECHTS FREIBURG - für Demokratie und Menschenwürde
DESCRIPTION:Begrüßung neuer OMAS und Interessierte\, fördert Kennenlernen und Austausch.
URL:https://omasgegenrechts-freiburg.de/termine/frauenstammtisch-der-omas-gegen-rechts-freiburg-fuer-demokratie-und-menschenwuerde-2/2028-01-04/
LOCATION:Restaurant Castillo\, Nägeleseestraße 20\, 79102 Freiburg\, 79102\, Germany
CATEGORIES:Begegnungen,Frauenstammtisch
ATTACH;FMTTYPE=image/jpeg:https://omasgegenrechts-freiburg.de/wp-content/uploads/2019/05/IMG_6820.jpg
END:VEVENT
BEGIN:VEVENT
DTSTART;TZID=Europe/Berlin:20280201T180000
DTEND;TZID=Europe/Berlin:20280201T210000
DTSTAMP:20260425T003834
CREATED:20260307T103354Z
LAST-MODIFIED:20260307T103354Z
UID:5062-1833040800-1833051600@omasgegenrechts-freiburg.de
SUMMARY:Frauenstammtisch der OMAS GEGEN RECHTS FREIBURG - für Demokratie und Menschenwürde
DESCRIPTION:Begrüßung neuer OMAS und Interessierte\, fördert Kennenlernen und Austausch.
URL:https://omasgegenrechts-freiburg.de/termine/frauenstammtisch-der-omas-gegen-rechts-freiburg-fuer-demokratie-und-menschenwuerde-2/2028-02-01/
LOCATION:Restaurant Castillo\, Nägeleseestraße 20\, 79102 Freiburg\, 79102\, Germany
CATEGORIES:Begegnungen,Frauenstammtisch
ATTACH;FMTTYPE=image/jpeg:https://omasgegenrechts-freiburg.de/wp-content/uploads/2019/05/IMG_6820.jpg
END:VEVENT
BEGIN:VEVENT
DTSTART;TZID=Europe/Berlin:20280307T180000
DTEND;TZID=Europe/Berlin:20280307T210000
DTSTAMP:20260425T003834
CREATED:20260307T103354Z
LAST-MODIFIED:20260307T103354Z
UID:5288-1836064800-1836075600@omasgegenrechts-freiburg.de
SUMMARY:Frauenstammtisch der OMAS GEGEN RECHTS FREIBURG - für Demokratie und Menschenwürde
DESCRIPTION:Begrüßung neuer OMAS und Interessierte\, fördert Kennenlernen und Austausch.
URL:https://omasgegenrechts-freiburg.de/termine/frauenstammtisch-der-omas-gegen-rechts-freiburg-fuer-demokratie-und-menschenwuerde-2/2028-03-07/
LOCATION:Restaurant Castillo\, Nägeleseestraße 20\, 79102 Freiburg\, 79102\, Germany
CATEGORIES:Begegnungen,Frauenstammtisch
ATTACH;FMTTYPE=image/jpeg:https://omasgegenrechts-freiburg.de/wp-content/uploads/2019/05/IMG_6820.jpg
END:VEVENT
BEGIN:VEVENT
DTSTART;TZID=Europe/Berlin:20280404T180000
DTEND;TZID=Europe/Berlin:20280404T210000
DTSTAMP:20260425T003834
CREATED:20260307T103354Z
LAST-MODIFIED:20260307T103354Z
UID:5454-1838484000-1838494800@omasgegenrechts-freiburg.de
SUMMARY:Frauenstammtisch der OMAS GEGEN RECHTS FREIBURG - für Demokratie und Menschenwürde
DESCRIPTION:Begrüßung neuer OMAS und Interessierte\, fördert Kennenlernen und Austausch.
URL:https://omasgegenrechts-freiburg.de/termine/frauenstammtisch-der-omas-gegen-rechts-freiburg-fuer-demokratie-und-menschenwuerde-2/2028-04-04/
LOCATION:Restaurant Castillo\, Nägeleseestraße 20\, 79102 Freiburg\, 79102\, Germany
CATEGORIES:Begegnungen,Frauenstammtisch
ATTACH;FMTTYPE=image/jpeg:https://omasgegenrechts-freiburg.de/wp-content/uploads/2019/05/IMG_6820.jpg
END:VEVENT
END:VCALENDAR