BEGIN:VCALENDAR
VERSION:2.0
PRODID:-//Omas gegen Rechts - Freiburg - ECPv6.15.20//NONSGML v1.0//EN
CALSCALE:GREGORIAN
METHOD:PUBLISH
X-ORIGINAL-URL:https://omasgegenrechts-freiburg.de
X-WR-CALDESC:Veranstaltungen für Omas gegen Rechts - Freiburg
REFRESH-INTERVAL;VALUE=DURATION:PT1H
X-Robots-Tag:noindex
X-PUBLISHED-TTL:PT1H
BEGIN:VTIMEZONE
TZID:Europe/Berlin
BEGIN:DAYLIGHT
TZOFFSETFROM:+0100
TZOFFSETTO:+0200
TZNAME:CEST
DTSTART:20230326T010000
END:DAYLIGHT
BEGIN:STANDARD
TZOFFSETFROM:+0200
TZOFFSETTO:+0100
TZNAME:CET
DTSTART:20231029T010000
END:STANDARD
BEGIN:DAYLIGHT
TZOFFSETFROM:+0100
TZOFFSETTO:+0200
TZNAME:CEST
DTSTART:20240331T010000
END:DAYLIGHT
BEGIN:STANDARD
TZOFFSETFROM:+0200
TZOFFSETTO:+0100
TZNAME:CET
DTSTART:20241027T010000
END:STANDARD
BEGIN:DAYLIGHT
TZOFFSETFROM:+0100
TZOFFSETTO:+0200
TZNAME:CEST
DTSTART:20250330T010000
END:DAYLIGHT
BEGIN:STANDARD
TZOFFSETFROM:+0200
TZOFFSETTO:+0100
TZNAME:CET
DTSTART:20251026T010000
END:STANDARD
BEGIN:DAYLIGHT
TZOFFSETFROM:+0100
TZOFFSETTO:+0200
TZNAME:CEST
DTSTART:20260329T010000
END:DAYLIGHT
BEGIN:STANDARD
TZOFFSETFROM:+0200
TZOFFSETTO:+0100
TZNAME:CET
DTSTART:20261025T010000
END:STANDARD
END:VTIMEZONE
BEGIN:VEVENT
DTSTART;TZID=Europe/Berlin:20251120T180000
DTEND;TZID=Europe/Berlin:20251120T200000
DTSTAMP:20260425T015439
CREATED:20250919T203320Z
LAST-MODIFIED:20250919T203320Z
UID:4325-1763661600-1763668800@omasgegenrechts-freiburg.de
SUMMARY:Plenum der Omas gegen Rechts Freiburg- für Demokratie und Menschenwürde
DESCRIPTION:
URL:https://omasgegenrechts-freiburg.de/termine/plenum-der-omas-gegen-rechts-freiburg-fuer-demokratie-und-menschenwuerde-4/
LOCATION:Haus des Engagements Hintereingang\, Rehlingsstr. 9\, Freiburg\, 79100
END:VEVENT
BEGIN:VEVENT
DTSTART;TZID=Europe/Berlin:20251016T180000
DTEND;TZID=Europe/Berlin:20251016T213000
DTSTAMP:20260425T015439
CREATED:20250919T202553Z
LAST-MODIFIED:20250919T203535Z
UID:4321-1760637600-1760650200@omasgegenrechts-freiburg.de
SUMMARY:Plenum der Omas gegen Rechts Freiburg- für Demokratie und Menschenwürde und 7 Jahre - ein Grund zum Feiern
DESCRIPTION:
URL:https://omasgegenrechts-freiburg.de/termine/plenum-der-omas-gegen-rechts-freiburg-fuer-demokratie-und-menschenwuerde-3/
LOCATION:Haus des Engagements Hintereingang\, Rehlingsstr. 9\, Freiburg\, 79100
END:VEVENT
BEGIN:VEVENT
DTSTART;TZID=Europe/Berlin:20250313T190000
DTEND;TZID=Europe/Berlin:20250313T210000
DTSTAMP:20260425T015439
CREATED:20250225T091928Z
LAST-MODIFIED:20250225T091928Z
UID:3851-1741892400-1741899600@omasgegenrechts-freiburg.de
SUMMARY:Lesung verfemter Literatur von Frauen im Nationalsozialismus
DESCRIPTION:Lesung verfemter Literatur von Frauen im Nationalsozialismus\nBeispielhaft Politikerinnen\, Wissenschaftlerinnen\, Dichterinnen ein lebendiges Denkmal setzen.\nWir verleihen Frauen eine Stimme\, deren Schriften / Bücher in der Zeit des NS verbrannt oder verboten wurden. Einige Omas tragen Literarisches und Biografisches vor. Kostenfrei
URL:https://omasgegenrechts-freiburg.de/termine/lesung-verfemter-literatur-von-frauen-im-nationalsozialismus/
LOCATION:Schopfheimerstraße 2 (Kreativpioniere Schopf 2)\, Schopfgheimerstraße 2\, Freiburg\, 79115\, Germany
END:VEVENT
BEGIN:VEVENT
DTSTART;TZID=Europe/Berlin:20240120T123000
DTEND;TZID=Europe/Berlin:20240120T133000
DTSTAMP:20260425T015439
CREATED:20240106T125818Z
LAST-MODIFIED:20240208T201744Z
UID:3623-1705753800-1705757400@omasgegenrechts-freiburg.de
SUMMARY:GEGEN DEN HASS
DESCRIPTION:Aktion am 20. Januar 2024 \n*Uns Omas gegen Rechts beunruhigt die bedrohliche Zunahme von Hass an vielen Orten. Wir beobachten mit Sorge\, wie z. Zt. aggressive einseitige Wertungen für oder gegen Israel\, für oder gegen Palästinenser hohe Wellen schlagen. Uns Omas gegen Rechts ist der Einsatz gegen Antisemitismus genauso wichtig wie das Engagement für Menschenrechte und Menschenwürde ALLER Menschen. Deshalb wollen wir ein Zeichen setzen \n  \nDer Hass richtet sich gegen Religion\, Geschlecht\, Hautfarbe\, Herkunft\, Nationalismus\, Macht- und Besitzansprüche.\nEr wird gespeist durch Rassismus\, Antisemitismus\, Fremdenfeindlichkeit\, frauenfeindliche und sexistische Übergriffe\, politische Intoleranz\, religiöse Vorbehalte\, Machterhaltung\, Besitzverteidigung\, mangelnde Akzeptanz für die Vielfalt von Kulturen und Nationalitäten Voraussetzungen für Hass sind intensive negative Gefühle der Aggression\, hervorgerufen durch Kränkungen\, Abwertung\, Vertrauensverlust\, Entrechtung\, prekäre Lebenssituationen. \nHass ist zerstörerisch und vergiftet das Leben\,\ndas eigene und das anderer Menschen. \nIn den letzten Jahren gelang es Populisten\, durch emotional aufgeheizte diskriminierend Reden und Veröffentlichungen in vielen Menschen Wut\, Empörung\, Angst und vielfältige Aggressionen auszulösen.\nEin auf Angriff ausgerichtetes Verhalten verbreitete sich rasch … denn es fällt viele Menschen – oft auch uns – viel leichter\, andere anzugreifen als sachlich zu argumentieren. Zornige Zustimmung für aggressive rechte Sprüche – gelebter Hass – kann schnell spontane emotionale Befriedigung verschaffen. Diese irrationale und aggressive Kommunikation bescherte z.B. der AfD erhebliche Erfolge. \nWir sehen unser Rechtssystem\, unsere Demokratie in Gefahr:\nHass nimmt zu! \nDeshalb engagieren wir uns jetzt\nGEGEN DEN HASS
URL:https://omasgegenrechts-freiburg.de/termine/gegen-den-hass/
LOCATION:Platz der Alten Synagoge – Freiburg
CATEGORIES:Demo
END:VEVENT
END:VCALENDAR