BEGIN:VCALENDAR
VERSION:2.0
PRODID:-//Omas gegen Rechts - Freiburg - ECPv6.15.20//NONSGML v1.0//EN
CALSCALE:GREGORIAN
METHOD:PUBLISH
X-ORIGINAL-URL:https://omasgegenrechts-freiburg.de
X-WR-CALDESC:Veranstaltungen für Omas gegen Rechts - Freiburg
REFRESH-INTERVAL;VALUE=DURATION:PT1H
X-Robots-Tag:noindex
X-PUBLISHED-TTL:PT1H
BEGIN:VTIMEZONE
TZID:Europe/Berlin
BEGIN:DAYLIGHT
TZOFFSETFROM:+0100
TZOFFSETTO:+0200
TZNAME:CEST
DTSTART:20260329T010000
END:DAYLIGHT
BEGIN:STANDARD
TZOFFSETFROM:+0200
TZOFFSETTO:+0100
TZNAME:CET
DTSTART:20261025T010000
END:STANDARD
BEGIN:DAYLIGHT
TZOFFSETFROM:+0100
TZOFFSETTO:+0200
TZNAME:CEST
DTSTART:20270328T010000
END:DAYLIGHT
BEGIN:STANDARD
TZOFFSETFROM:+0200
TZOFFSETTO:+0100
TZNAME:CET
DTSTART:20271031T010000
END:STANDARD
BEGIN:DAYLIGHT
TZOFFSETFROM:+0100
TZOFFSETTO:+0200
TZNAME:CEST
DTSTART:20280326T010000
END:DAYLIGHT
BEGIN:STANDARD
TZOFFSETFROM:+0200
TZOFFSETTO:+0100
TZNAME:CET
DTSTART:20281029T010000
END:STANDARD
END:VTIMEZONE
BEGIN:VEVENT
DTSTART;TZID=Europe/Berlin:20270414T103000
DTEND;TZID=Europe/Berlin:20270414T123000
DTSTAMP:20260425T015327
CREATED:20260308T012745Z
LAST-MODIFIED:20260308T012925Z
UID:5120-1807698600-1807705800@omasgegenrechts-freiburg.de
SUMMARY:OMAS Bank
DESCRIPTION:Jeden Mittwoch zu Marktzeiten\, sitzen zwei OMAs in Weingarten\, jede auf einer Bank. Ob jung oder alt\, jede und jeder\, der reden möchte\, ist willkommen und kann sich neben der OMA auf das freie Kissen setzen. Die OMA hört ihr bzw. ihm gerne zu. \nFalls es regnet\, schneit oder zu kalt ist\, fällt OMAs Bank freilich aus.
URL:https://omasgegenrechts-freiburg.de/termine/omas-bank/2027-04-14/
LOCATION:Fritz Schieler Platz Weingarten\, Fritz Schieler Paltz Weingarten\, Freiburg
CATEGORIES:Omas Bank
END:VEVENT
BEGIN:VEVENT
DTSTART;TZID=Europe/Berlin:20270421T103000
DTEND;TZID=Europe/Berlin:20270421T123000
DTSTAMP:20260425T015327
CREATED:20260308T012745Z
LAST-MODIFIED:20260308T012925Z
UID:5121-1808303400-1808310600@omasgegenrechts-freiburg.de
SUMMARY:OMAS Bank
DESCRIPTION:Jeden Mittwoch zu Marktzeiten\, sitzen zwei OMAs in Weingarten\, jede auf einer Bank. Ob jung oder alt\, jede und jeder\, der reden möchte\, ist willkommen und kann sich neben der OMA auf das freie Kissen setzen. Die OMA hört ihr bzw. ihm gerne zu. \nFalls es regnet\, schneit oder zu kalt ist\, fällt OMAs Bank freilich aus.
URL:https://omasgegenrechts-freiburg.de/termine/omas-bank/2027-04-21/
LOCATION:Fritz Schieler Platz Weingarten\, Fritz Schieler Paltz Weingarten\, Freiburg
CATEGORIES:Omas Bank
END:VEVENT
BEGIN:VEVENT
DTSTART;TZID=Europe/Berlin:20270428T103000
DTEND;TZID=Europe/Berlin:20270428T123000
DTSTAMP:20260425T015327
CREATED:20260308T012745Z
LAST-MODIFIED:20260308T012926Z
UID:5122-1808908200-1808915400@omasgegenrechts-freiburg.de
SUMMARY:OMAS Bank
DESCRIPTION:Jeden Mittwoch zu Marktzeiten\, sitzen zwei OMAs in Weingarten\, jede auf einer Bank. Ob jung oder alt\, jede und jeder\, der reden möchte\, ist willkommen und kann sich neben der OMA auf das freie Kissen setzen. Die OMA hört ihr bzw. ihm gerne zu. \nFalls es regnet\, schneit oder zu kalt ist\, fällt OMAs Bank freilich aus.
URL:https://omasgegenrechts-freiburg.de/termine/omas-bank/2027-04-28/
LOCATION:Fritz Schieler Platz Weingarten\, Fritz Schieler Paltz Weingarten\, Freiburg
CATEGORIES:Omas Bank
END:VEVENT
BEGIN:VEVENT
DTSTART;TZID=Europe/Berlin:20270505T103000
DTEND;TZID=Europe/Berlin:20270505T123000
DTSTAMP:20260425T015327
CREATED:20260308T012745Z
LAST-MODIFIED:20260308T012926Z
UID:5123-1809513000-1809520200@omasgegenrechts-freiburg.de
SUMMARY:OMAS Bank
DESCRIPTION:Jeden Mittwoch zu Marktzeiten\, sitzen zwei OMAs in Weingarten\, jede auf einer Bank. Ob jung oder alt\, jede und jeder\, der reden möchte\, ist willkommen und kann sich neben der OMA auf das freie Kissen setzen. Die OMA hört ihr bzw. ihm gerne zu. \nFalls es regnet\, schneit oder zu kalt ist\, fällt OMAs Bank freilich aus.
URL:https://omasgegenrechts-freiburg.de/termine/omas-bank/2027-05-05/
LOCATION:Fritz Schieler Platz Weingarten\, Fritz Schieler Paltz Weingarten\, Freiburg
CATEGORIES:Omas Bank
END:VEVENT
BEGIN:VEVENT
DTSTART;TZID=Europe/Berlin:20270512T103000
DTEND;TZID=Europe/Berlin:20270512T123000
DTSTAMP:20260425T015327
CREATED:20260308T012745Z
LAST-MODIFIED:20260308T012926Z
UID:5124-1810117800-1810125000@omasgegenrechts-freiburg.de
SUMMARY:OMAS Bank
DESCRIPTION:Jeden Mittwoch zu Marktzeiten\, sitzen zwei OMAs in Weingarten\, jede auf einer Bank. Ob jung oder alt\, jede und jeder\, der reden möchte\, ist willkommen und kann sich neben der OMA auf das freie Kissen setzen. Die OMA hört ihr bzw. ihm gerne zu. \nFalls es regnet\, schneit oder zu kalt ist\, fällt OMAs Bank freilich aus.
URL:https://omasgegenrechts-freiburg.de/termine/omas-bank/2027-05-12/
LOCATION:Fritz Schieler Platz Weingarten\, Fritz Schieler Paltz Weingarten\, Freiburg
CATEGORIES:Omas Bank
END:VEVENT
BEGIN:VEVENT
DTSTART;TZID=Europe/Berlin:20270519T103000
DTEND;TZID=Europe/Berlin:20270519T123000
DTSTAMP:20260425T015327
CREATED:20260308T012745Z
LAST-MODIFIED:20260308T012927Z
UID:5125-1810722600-1810729800@omasgegenrechts-freiburg.de
SUMMARY:OMAS Bank
DESCRIPTION:Jeden Mittwoch zu Marktzeiten\, sitzen zwei OMAs in Weingarten\, jede auf einer Bank. Ob jung oder alt\, jede und jeder\, der reden möchte\, ist willkommen und kann sich neben der OMA auf das freie Kissen setzen. Die OMA hört ihr bzw. ihm gerne zu. \nFalls es regnet\, schneit oder zu kalt ist\, fällt OMAs Bank freilich aus.
URL:https://omasgegenrechts-freiburg.de/termine/omas-bank/2027-05-19/
LOCATION:Fritz Schieler Platz Weingarten\, Fritz Schieler Paltz Weingarten\, Freiburg
CATEGORIES:Omas Bank
END:VEVENT
BEGIN:VEVENT
DTSTART;TZID=Europe/Berlin:20270526T103000
DTEND;TZID=Europe/Berlin:20270526T123000
DTSTAMP:20260425T015327
CREATED:20260308T012745Z
LAST-MODIFIED:20260308T012927Z
UID:5126-1811327400-1811334600@omasgegenrechts-freiburg.de
SUMMARY:OMAS Bank
DESCRIPTION:Jeden Mittwoch zu Marktzeiten\, sitzen zwei OMAs in Weingarten\, jede auf einer Bank. Ob jung oder alt\, jede und jeder\, der reden möchte\, ist willkommen und kann sich neben der OMA auf das freie Kissen setzen. Die OMA hört ihr bzw. ihm gerne zu. \nFalls es regnet\, schneit oder zu kalt ist\, fällt OMAs Bank freilich aus.
URL:https://omasgegenrechts-freiburg.de/termine/omas-bank/2027-05-26/
LOCATION:Fritz Schieler Platz Weingarten\, Fritz Schieler Paltz Weingarten\, Freiburg
CATEGORIES:Omas Bank
END:VEVENT
BEGIN:VEVENT
DTSTART;TZID=Europe/Berlin:20270602T103000
DTEND;TZID=Europe/Berlin:20270602T123000
DTSTAMP:20260425T015327
CREATED:20260308T012745Z
LAST-MODIFIED:20260308T012927Z
UID:5127-1811932200-1811939400@omasgegenrechts-freiburg.de
SUMMARY:OMAS Bank
DESCRIPTION:Jeden Mittwoch zu Marktzeiten\, sitzen zwei OMAs in Weingarten\, jede auf einer Bank. Ob jung oder alt\, jede und jeder\, der reden möchte\, ist willkommen und kann sich neben der OMA auf das freie Kissen setzen. Die OMA hört ihr bzw. ihm gerne zu. \nFalls es regnet\, schneit oder zu kalt ist\, fällt OMAs Bank freilich aus.
URL:https://omasgegenrechts-freiburg.de/termine/omas-bank/2027-06-02/
LOCATION:Fritz Schieler Platz Weingarten\, Fritz Schieler Paltz Weingarten\, Freiburg
CATEGORIES:Omas Bank
END:VEVENT
BEGIN:VEVENT
DTSTART;TZID=Europe/Berlin:20270609T103000
DTEND;TZID=Europe/Berlin:20270609T123000
DTSTAMP:20260425T015327
CREATED:20260308T012745Z
LAST-MODIFIED:20260308T012927Z
UID:5128-1812537000-1812544200@omasgegenrechts-freiburg.de
SUMMARY:OMAS Bank
DESCRIPTION:Jeden Mittwoch zu Marktzeiten\, sitzen zwei OMAs in Weingarten\, jede auf einer Bank. Ob jung oder alt\, jede und jeder\, der reden möchte\, ist willkommen und kann sich neben der OMA auf das freie Kissen setzen. Die OMA hört ihr bzw. ihm gerne zu. \nFalls es regnet\, schneit oder zu kalt ist\, fällt OMAs Bank freilich aus.
URL:https://omasgegenrechts-freiburg.de/termine/omas-bank/2027-06-09/
LOCATION:Fritz Schieler Platz Weingarten\, Fritz Schieler Paltz Weingarten\, Freiburg
CATEGORIES:Omas Bank
END:VEVENT
BEGIN:VEVENT
DTSTART;TZID=Europe/Berlin:20270616T103000
DTEND;TZID=Europe/Berlin:20270616T123000
DTSTAMP:20260425T015327
CREATED:20260308T012745Z
LAST-MODIFIED:20260308T012927Z
UID:5129-1813141800-1813149000@omasgegenrechts-freiburg.de
SUMMARY:OMAS Bank
DESCRIPTION:Jeden Mittwoch zu Marktzeiten\, sitzen zwei OMAs in Weingarten\, jede auf einer Bank. Ob jung oder alt\, jede und jeder\, der reden möchte\, ist willkommen und kann sich neben der OMA auf das freie Kissen setzen. Die OMA hört ihr bzw. ihm gerne zu. \nFalls es regnet\, schneit oder zu kalt ist\, fällt OMAs Bank freilich aus.
URL:https://omasgegenrechts-freiburg.de/termine/omas-bank/2027-06-16/
LOCATION:Fritz Schieler Platz Weingarten\, Fritz Schieler Paltz Weingarten\, Freiburg
CATEGORIES:Omas Bank
END:VEVENT
BEGIN:VEVENT
DTSTART;TZID=Europe/Berlin:20270623T103000
DTEND;TZID=Europe/Berlin:20270623T123000
DTSTAMP:20260425T015327
CREATED:20260308T012745Z
LAST-MODIFIED:20260308T012927Z
UID:5130-1813746600-1813753800@omasgegenrechts-freiburg.de
SUMMARY:OMAS Bank
DESCRIPTION:Jeden Mittwoch zu Marktzeiten\, sitzen zwei OMAs in Weingarten\, jede auf einer Bank. Ob jung oder alt\, jede und jeder\, der reden möchte\, ist willkommen und kann sich neben der OMA auf das freie Kissen setzen. Die OMA hört ihr bzw. ihm gerne zu. \nFalls es regnet\, schneit oder zu kalt ist\, fällt OMAs Bank freilich aus.
URL:https://omasgegenrechts-freiburg.de/termine/omas-bank/2027-06-23/
LOCATION:Fritz Schieler Platz Weingarten\, Fritz Schieler Paltz Weingarten\, Freiburg
CATEGORIES:Omas Bank
END:VEVENT
BEGIN:VEVENT
DTSTART;TZID=Europe/Berlin:20270630T103000
DTEND;TZID=Europe/Berlin:20270630T123000
DTSTAMP:20260425T015327
CREATED:20260308T012745Z
LAST-MODIFIED:20260308T012927Z
UID:5131-1814351400-1814358600@omasgegenrechts-freiburg.de
SUMMARY:OMAS Bank
DESCRIPTION:Jeden Mittwoch zu Marktzeiten\, sitzen zwei OMAs in Weingarten\, jede auf einer Bank. Ob jung oder alt\, jede und jeder\, der reden möchte\, ist willkommen und kann sich neben der OMA auf das freie Kissen setzen. Die OMA hört ihr bzw. ihm gerne zu. \nFalls es regnet\, schneit oder zu kalt ist\, fällt OMAs Bank freilich aus.
URL:https://omasgegenrechts-freiburg.de/termine/omas-bank/2027-06-30/
LOCATION:Fritz Schieler Platz Weingarten\, Fritz Schieler Paltz Weingarten\, Freiburg
CATEGORIES:Omas Bank
END:VEVENT
BEGIN:VEVENT
DTSTART;TZID=Europe/Berlin:20270707T103000
DTEND;TZID=Europe/Berlin:20270707T123000
DTSTAMP:20260425T015327
CREATED:20260308T012745Z
LAST-MODIFIED:20260308T012927Z
UID:5132-1814956200-1814963400@omasgegenrechts-freiburg.de
SUMMARY:OMAS Bank
DESCRIPTION:Jeden Mittwoch zu Marktzeiten\, sitzen zwei OMAs in Weingarten\, jede auf einer Bank. Ob jung oder alt\, jede und jeder\, der reden möchte\, ist willkommen und kann sich neben der OMA auf das freie Kissen setzen. Die OMA hört ihr bzw. ihm gerne zu. \nFalls es regnet\, schneit oder zu kalt ist\, fällt OMAs Bank freilich aus.
URL:https://omasgegenrechts-freiburg.de/termine/omas-bank/2027-07-07/
LOCATION:Fritz Schieler Platz Weingarten\, Fritz Schieler Paltz Weingarten\, Freiburg
CATEGORIES:Omas Bank
END:VEVENT
BEGIN:VEVENT
DTSTART;TZID=Europe/Berlin:20270714T103000
DTEND;TZID=Europe/Berlin:20270714T123000
DTSTAMP:20260425T015327
CREATED:20260308T012745Z
LAST-MODIFIED:20260308T012927Z
UID:5133-1815561000-1815568200@omasgegenrechts-freiburg.de
SUMMARY:OMAS Bank
DESCRIPTION:Jeden Mittwoch zu Marktzeiten\, sitzen zwei OMAs in Weingarten\, jede auf einer Bank. Ob jung oder alt\, jede und jeder\, der reden möchte\, ist willkommen und kann sich neben der OMA auf das freie Kissen setzen. Die OMA hört ihr bzw. ihm gerne zu. \nFalls es regnet\, schneit oder zu kalt ist\, fällt OMAs Bank freilich aus.
URL:https://omasgegenrechts-freiburg.de/termine/omas-bank/2027-07-14/
LOCATION:Fritz Schieler Platz Weingarten\, Fritz Schieler Paltz Weingarten\, Freiburg
CATEGORIES:Omas Bank
END:VEVENT
BEGIN:VEVENT
DTSTART;TZID=Europe/Berlin:20270721T103000
DTEND;TZID=Europe/Berlin:20270721T123000
DTSTAMP:20260425T015327
CREATED:20260308T012745Z
LAST-MODIFIED:20260308T012928Z
UID:5134-1816165800-1816173000@omasgegenrechts-freiburg.de
SUMMARY:OMAS Bank
DESCRIPTION:Jeden Mittwoch zu Marktzeiten\, sitzen zwei OMAs in Weingarten\, jede auf einer Bank. Ob jung oder alt\, jede und jeder\, der reden möchte\, ist willkommen und kann sich neben der OMA auf das freie Kissen setzen. Die OMA hört ihr bzw. ihm gerne zu. \nFalls es regnet\, schneit oder zu kalt ist\, fällt OMAs Bank freilich aus.
URL:https://omasgegenrechts-freiburg.de/termine/omas-bank/2027-07-21/
LOCATION:Fritz Schieler Platz Weingarten\, Fritz Schieler Paltz Weingarten\, Freiburg
CATEGORIES:Omas Bank
END:VEVENT
BEGIN:VEVENT
DTSTART;TZID=Europe/Berlin:20270728T103000
DTEND;TZID=Europe/Berlin:20270728T123000
DTSTAMP:20260425T015327
CREATED:20260308T012745Z
LAST-MODIFIED:20260308T012928Z
UID:5135-1816770600-1816777800@omasgegenrechts-freiburg.de
SUMMARY:OMAS Bank
DESCRIPTION:Jeden Mittwoch zu Marktzeiten\, sitzen zwei OMAs in Weingarten\, jede auf einer Bank. Ob jung oder alt\, jede und jeder\, der reden möchte\, ist willkommen und kann sich neben der OMA auf das freie Kissen setzen. Die OMA hört ihr bzw. ihm gerne zu. \nFalls es regnet\, schneit oder zu kalt ist\, fällt OMAs Bank freilich aus.
URL:https://omasgegenrechts-freiburg.de/termine/omas-bank/2027-07-28/
LOCATION:Fritz Schieler Platz Weingarten\, Fritz Schieler Paltz Weingarten\, Freiburg
CATEGORIES:Omas Bank
END:VEVENT
BEGIN:VEVENT
DTSTART;TZID=Europe/Berlin:20270804T103000
DTEND;TZID=Europe/Berlin:20270804T123000
DTSTAMP:20260425T015327
CREATED:20260308T012745Z
LAST-MODIFIED:20260308T012928Z
UID:5136-1817375400-1817382600@omasgegenrechts-freiburg.de
SUMMARY:OMAS Bank
DESCRIPTION:Jeden Mittwoch zu Marktzeiten\, sitzen zwei OMAs in Weingarten\, jede auf einer Bank. Ob jung oder alt\, jede und jeder\, der reden möchte\, ist willkommen und kann sich neben der OMA auf das freie Kissen setzen. Die OMA hört ihr bzw. ihm gerne zu. \nFalls es regnet\, schneit oder zu kalt ist\, fällt OMAs Bank freilich aus.
URL:https://omasgegenrechts-freiburg.de/termine/omas-bank/2027-08-04/
LOCATION:Fritz Schieler Platz Weingarten\, Fritz Schieler Paltz Weingarten\, Freiburg
CATEGORIES:Omas Bank
END:VEVENT
BEGIN:VEVENT
DTSTART;TZID=Europe/Berlin:20270811T103000
DTEND;TZID=Europe/Berlin:20270811T123000
DTSTAMP:20260425T015327
CREATED:20260308T012745Z
LAST-MODIFIED:20260308T012929Z
UID:5137-1817980200-1817987400@omasgegenrechts-freiburg.de
SUMMARY:OMAS Bank
DESCRIPTION:Jeden Mittwoch zu Marktzeiten\, sitzen zwei OMAs in Weingarten\, jede auf einer Bank. Ob jung oder alt\, jede und jeder\, der reden möchte\, ist willkommen und kann sich neben der OMA auf das freie Kissen setzen. Die OMA hört ihr bzw. ihm gerne zu. \nFalls es regnet\, schneit oder zu kalt ist\, fällt OMAs Bank freilich aus.
URL:https://omasgegenrechts-freiburg.de/termine/omas-bank/2027-08-11/
LOCATION:Fritz Schieler Platz Weingarten\, Fritz Schieler Paltz Weingarten\, Freiburg
CATEGORIES:Omas Bank
END:VEVENT
BEGIN:VEVENT
DTSTART;TZID=Europe/Berlin:20270818T103000
DTEND;TZID=Europe/Berlin:20270818T123000
DTSTAMP:20260425T015327
CREATED:20260308T012745Z
LAST-MODIFIED:20260308T012929Z
UID:5138-1818585000-1818592200@omasgegenrechts-freiburg.de
SUMMARY:OMAS Bank
DESCRIPTION:Jeden Mittwoch zu Marktzeiten\, sitzen zwei OMAs in Weingarten\, jede auf einer Bank. Ob jung oder alt\, jede und jeder\, der reden möchte\, ist willkommen und kann sich neben der OMA auf das freie Kissen setzen. Die OMA hört ihr bzw. ihm gerne zu. \nFalls es regnet\, schneit oder zu kalt ist\, fällt OMAs Bank freilich aus.
URL:https://omasgegenrechts-freiburg.de/termine/omas-bank/2027-08-18/
LOCATION:Fritz Schieler Platz Weingarten\, Fritz Schieler Paltz Weingarten\, Freiburg
CATEGORIES:Omas Bank
END:VEVENT
BEGIN:VEVENT
DTSTART;TZID=Europe/Berlin:20270825T103000
DTEND;TZID=Europe/Berlin:20270825T123000
DTSTAMP:20260425T015327
CREATED:20260308T012745Z
LAST-MODIFIED:20260308T012929Z
UID:5139-1819189800-1819197000@omasgegenrechts-freiburg.de
SUMMARY:OMAS Bank
DESCRIPTION:Jeden Mittwoch zu Marktzeiten\, sitzen zwei OMAs in Weingarten\, jede auf einer Bank. Ob jung oder alt\, jede und jeder\, der reden möchte\, ist willkommen und kann sich neben der OMA auf das freie Kissen setzen. Die OMA hört ihr bzw. ihm gerne zu. \nFalls es regnet\, schneit oder zu kalt ist\, fällt OMAs Bank freilich aus.
URL:https://omasgegenrechts-freiburg.de/termine/omas-bank/2027-08-25/
LOCATION:Fritz Schieler Platz Weingarten\, Fritz Schieler Paltz Weingarten\, Freiburg
CATEGORIES:Omas Bank
END:VEVENT
BEGIN:VEVENT
DTSTART;TZID=Europe/Berlin:20270901T103000
DTEND;TZID=Europe/Berlin:20270901T123000
DTSTAMP:20260425T015327
CREATED:20260308T012745Z
LAST-MODIFIED:20260308T012929Z
UID:5140-1819794600-1819801800@omasgegenrechts-freiburg.de
SUMMARY:OMAS Bank
DESCRIPTION:Jeden Mittwoch zu Marktzeiten\, sitzen zwei OMAs in Weingarten\, jede auf einer Bank. Ob jung oder alt\, jede und jeder\, der reden möchte\, ist willkommen und kann sich neben der OMA auf das freie Kissen setzen. Die OMA hört ihr bzw. ihm gerne zu. \nFalls es regnet\, schneit oder zu kalt ist\, fällt OMAs Bank freilich aus.
URL:https://omasgegenrechts-freiburg.de/termine/omas-bank/2027-09-01/
LOCATION:Fritz Schieler Platz Weingarten\, Fritz Schieler Paltz Weingarten\, Freiburg
CATEGORIES:Omas Bank
END:VEVENT
BEGIN:VEVENT
DTSTART;TZID=Europe/Berlin:20270908T103000
DTEND;TZID=Europe/Berlin:20270908T123000
DTSTAMP:20260425T015327
CREATED:20260308T012745Z
LAST-MODIFIED:20260308T012929Z
UID:5141-1820399400-1820406600@omasgegenrechts-freiburg.de
SUMMARY:OMAS Bank
DESCRIPTION:Jeden Mittwoch zu Marktzeiten\, sitzen zwei OMAs in Weingarten\, jede auf einer Bank. Ob jung oder alt\, jede und jeder\, der reden möchte\, ist willkommen und kann sich neben der OMA auf das freie Kissen setzen. Die OMA hört ihr bzw. ihm gerne zu. \nFalls es regnet\, schneit oder zu kalt ist\, fällt OMAs Bank freilich aus.
URL:https://omasgegenrechts-freiburg.de/termine/omas-bank/2027-09-08/
LOCATION:Fritz Schieler Platz Weingarten\, Fritz Schieler Paltz Weingarten\, Freiburg
CATEGORIES:Omas Bank
END:VEVENT
BEGIN:VEVENT
DTSTART;TZID=Europe/Berlin:20270915T103000
DTEND;TZID=Europe/Berlin:20270915T123000
DTSTAMP:20260425T015327
CREATED:20260308T012745Z
LAST-MODIFIED:20260308T012929Z
UID:5142-1821004200-1821011400@omasgegenrechts-freiburg.de
SUMMARY:OMAS Bank
DESCRIPTION:Jeden Mittwoch zu Marktzeiten\, sitzen zwei OMAs in Weingarten\, jede auf einer Bank. Ob jung oder alt\, jede und jeder\, der reden möchte\, ist willkommen und kann sich neben der OMA auf das freie Kissen setzen. Die OMA hört ihr bzw. ihm gerne zu. \nFalls es regnet\, schneit oder zu kalt ist\, fällt OMAs Bank freilich aus.
URL:https://omasgegenrechts-freiburg.de/termine/omas-bank/2027-09-15/
LOCATION:Fritz Schieler Platz Weingarten\, Fritz Schieler Paltz Weingarten\, Freiburg
CATEGORIES:Omas Bank
END:VEVENT
BEGIN:VEVENT
DTSTART;TZID=Europe/Berlin:20270922T103000
DTEND;TZID=Europe/Berlin:20270922T123000
DTSTAMP:20260425T015327
CREATED:20260308T012745Z
LAST-MODIFIED:20260308T012929Z
UID:5143-1821609000-1821616200@omasgegenrechts-freiburg.de
SUMMARY:OMAS Bank
DESCRIPTION:Jeden Mittwoch zu Marktzeiten\, sitzen zwei OMAs in Weingarten\, jede auf einer Bank. Ob jung oder alt\, jede und jeder\, der reden möchte\, ist willkommen und kann sich neben der OMA auf das freie Kissen setzen. Die OMA hört ihr bzw. ihm gerne zu. \nFalls es regnet\, schneit oder zu kalt ist\, fällt OMAs Bank freilich aus.
URL:https://omasgegenrechts-freiburg.de/termine/omas-bank/2027-09-22/
LOCATION:Fritz Schieler Platz Weingarten\, Fritz Schieler Paltz Weingarten\, Freiburg
CATEGORIES:Omas Bank
END:VEVENT
BEGIN:VEVENT
DTSTART;TZID=Europe/Berlin:20270929T103000
DTEND;TZID=Europe/Berlin:20270929T123000
DTSTAMP:20260425T015327
CREATED:20260308T012745Z
LAST-MODIFIED:20260308T012930Z
UID:5144-1822213800-1822221000@omasgegenrechts-freiburg.de
SUMMARY:OMAS Bank
DESCRIPTION:Jeden Mittwoch zu Marktzeiten\, sitzen zwei OMAs in Weingarten\, jede auf einer Bank. Ob jung oder alt\, jede und jeder\, der reden möchte\, ist willkommen und kann sich neben der OMA auf das freie Kissen setzen. Die OMA hört ihr bzw. ihm gerne zu. \nFalls es regnet\, schneit oder zu kalt ist\, fällt OMAs Bank freilich aus.
URL:https://omasgegenrechts-freiburg.de/termine/omas-bank/2027-09-29/
LOCATION:Fritz Schieler Platz Weingarten\, Fritz Schieler Paltz Weingarten\, Freiburg
CATEGORIES:Omas Bank
END:VEVENT
BEGIN:VEVENT
DTSTART;TZID=Europe/Berlin:20271006T103000
DTEND;TZID=Europe/Berlin:20271006T123000
DTSTAMP:20260425T015327
CREATED:20260308T012745Z
LAST-MODIFIED:20260308T012930Z
UID:5145-1822818600-1822825800@omasgegenrechts-freiburg.de
SUMMARY:OMAS Bank
DESCRIPTION:Jeden Mittwoch zu Marktzeiten\, sitzen zwei OMAs in Weingarten\, jede auf einer Bank. Ob jung oder alt\, jede und jeder\, der reden möchte\, ist willkommen und kann sich neben der OMA auf das freie Kissen setzen. Die OMA hört ihr bzw. ihm gerne zu. \nFalls es regnet\, schneit oder zu kalt ist\, fällt OMAs Bank freilich aus.
URL:https://omasgegenrechts-freiburg.de/termine/omas-bank/2027-10-06/
LOCATION:Fritz Schieler Platz Weingarten\, Fritz Schieler Paltz Weingarten\, Freiburg
CATEGORIES:Omas Bank
END:VEVENT
BEGIN:VEVENT
DTSTART;TZID=Europe/Berlin:20271013T103000
DTEND;TZID=Europe/Berlin:20271013T123000
DTSTAMP:20260425T015327
CREATED:20260308T012745Z
LAST-MODIFIED:20260308T012930Z
UID:5146-1823423400-1823430600@omasgegenrechts-freiburg.de
SUMMARY:OMAS Bank
DESCRIPTION:Jeden Mittwoch zu Marktzeiten\, sitzen zwei OMAs in Weingarten\, jede auf einer Bank. Ob jung oder alt\, jede und jeder\, der reden möchte\, ist willkommen und kann sich neben der OMA auf das freie Kissen setzen. Die OMA hört ihr bzw. ihm gerne zu. \nFalls es regnet\, schneit oder zu kalt ist\, fällt OMAs Bank freilich aus.
URL:https://omasgegenrechts-freiburg.de/termine/omas-bank/2027-10-13/
LOCATION:Fritz Schieler Platz Weingarten\, Fritz Schieler Paltz Weingarten\, Freiburg
CATEGORIES:Omas Bank
END:VEVENT
BEGIN:VEVENT
DTSTART;TZID=Europe/Berlin:20271020T103000
DTEND;TZID=Europe/Berlin:20271020T123000
DTSTAMP:20260425T015327
CREATED:20260308T012745Z
LAST-MODIFIED:20260308T012930Z
UID:5147-1824028200-1824035400@omasgegenrechts-freiburg.de
SUMMARY:OMAS Bank
DESCRIPTION:Jeden Mittwoch zu Marktzeiten\, sitzen zwei OMAs in Weingarten\, jede auf einer Bank. Ob jung oder alt\, jede und jeder\, der reden möchte\, ist willkommen und kann sich neben der OMA auf das freie Kissen setzen. Die OMA hört ihr bzw. ihm gerne zu. \nFalls es regnet\, schneit oder zu kalt ist\, fällt OMAs Bank freilich aus.
URL:https://omasgegenrechts-freiburg.de/termine/omas-bank/2027-10-20/
LOCATION:Fritz Schieler Platz Weingarten\, Fritz Schieler Paltz Weingarten\, Freiburg
CATEGORIES:Omas Bank
END:VEVENT
BEGIN:VEVENT
DTSTART;TZID=Europe/Berlin:20271027T103000
DTEND;TZID=Europe/Berlin:20271027T123000
DTSTAMP:20260425T015327
CREATED:20260308T012745Z
LAST-MODIFIED:20260308T012931Z
UID:5148-1824633000-1824640200@omasgegenrechts-freiburg.de
SUMMARY:OMAS Bank
DESCRIPTION:Jeden Mittwoch zu Marktzeiten\, sitzen zwei OMAs in Weingarten\, jede auf einer Bank. Ob jung oder alt\, jede und jeder\, der reden möchte\, ist willkommen und kann sich neben der OMA auf das freie Kissen setzen. Die OMA hört ihr bzw. ihm gerne zu. \nFalls es regnet\, schneit oder zu kalt ist\, fällt OMAs Bank freilich aus.
URL:https://omasgegenrechts-freiburg.de/termine/omas-bank/2027-10-27/
LOCATION:Fritz Schieler Platz Weingarten\, Fritz Schieler Paltz Weingarten\, Freiburg
CATEGORIES:Omas Bank
END:VEVENT
BEGIN:VEVENT
DTSTART;TZID=Europe/Berlin:20271103T103000
DTEND;TZID=Europe/Berlin:20271103T123000
DTSTAMP:20260425T015327
CREATED:20260308T012745Z
LAST-MODIFIED:20260308T012931Z
UID:5149-1825237800-1825245000@omasgegenrechts-freiburg.de
SUMMARY:OMAS Bank
DESCRIPTION:Jeden Mittwoch zu Marktzeiten\, sitzen zwei OMAs in Weingarten\, jede auf einer Bank. Ob jung oder alt\, jede und jeder\, der reden möchte\, ist willkommen und kann sich neben der OMA auf das freie Kissen setzen. Die OMA hört ihr bzw. ihm gerne zu. \nFalls es regnet\, schneit oder zu kalt ist\, fällt OMAs Bank freilich aus.
URL:https://omasgegenrechts-freiburg.de/termine/omas-bank/2027-11-03/
LOCATION:Fritz Schieler Platz Weingarten\, Fritz Schieler Paltz Weingarten\, Freiburg
CATEGORIES:Omas Bank
END:VEVENT
END:VCALENDAR