BEGIN:VCALENDAR
VERSION:2.0
PRODID:-//Omas gegen Rechts - Freiburg - ECPv6.15.20//NONSGML v1.0//EN
CALSCALE:GREGORIAN
METHOD:PUBLISH
X-WR-CALNAME:Omas gegen Rechts - Freiburg
X-ORIGINAL-URL:https://omasgegenrechts-freiburg.de
X-WR-CALDESC:Veranstaltungen für Omas gegen Rechts - Freiburg
REFRESH-INTERVAL;VALUE=DURATION:PT1H
X-Robots-Tag:noindex
X-PUBLISHED-TTL:PT1H
BEGIN:VTIMEZONE
TZID:Europe/Berlin
BEGIN:DAYLIGHT
TZOFFSETFROM:+0100
TZOFFSETTO:+0200
TZNAME:CEST
DTSTART:20250330T010000
END:DAYLIGHT
BEGIN:STANDARD
TZOFFSETFROM:+0200
TZOFFSETTO:+0100
TZNAME:CET
DTSTART:20251026T010000
END:STANDARD
BEGIN:DAYLIGHT
TZOFFSETFROM:+0100
TZOFFSETTO:+0200
TZNAME:CEST
DTSTART:20260329T010000
END:DAYLIGHT
BEGIN:STANDARD
TZOFFSETFROM:+0200
TZOFFSETTO:+0100
TZNAME:CET
DTSTART:20261025T010000
END:STANDARD
BEGIN:DAYLIGHT
TZOFFSETFROM:+0100
TZOFFSETTO:+0200
TZNAME:CEST
DTSTART:20270328T010000
END:DAYLIGHT
BEGIN:STANDARD
TZOFFSETFROM:+0200
TZOFFSETTO:+0100
TZNAME:CET
DTSTART:20271031T010000
END:STANDARD
END:VTIMEZONE
BEGIN:VEVENT
DTSTART;TZID=Europe/Berlin:20260422T103000
DTEND;TZID=Europe/Berlin:20260422T123000
DTSTAMP:20260424T192819
CREATED:20260308T012745Z
LAST-MODIFIED:20260308T012914Z
UID:5068-1776853800-1776861000@omasgegenrechts-freiburg.de
SUMMARY:OMAS Bank
DESCRIPTION:Jeden Mittwoch zu Marktzeiten\, sitzen zwei OMAs in Weingarten\, jede auf einer Bank. Ob jung oder alt\, jede und jeder\, der reden möchte\, ist willkommen und kann sich neben der OMA auf das freie Kissen setzen. Die OMA hört ihr bzw. ihm gerne zu. \nFalls es regnet\, schneit oder zu kalt ist\, fällt OMAs Bank freilich aus.
URL:https://omasgegenrechts-freiburg.de/termine/omas-bank/2026-04-22/
LOCATION:Fritz Schieler Platz Weingarten\, Fritz Schieler Paltz Weingarten\, Freiburg
CATEGORIES:Omas Bank
END:VEVENT
BEGIN:VEVENT
DTSTART;TZID=Europe/Berlin:20260415T103000
DTEND;TZID=Europe/Berlin:20260415T123000
DTSTAMP:20260424T192819
CREATED:20260308T012745Z
LAST-MODIFIED:20260308T012914Z
UID:5167-1776249000-1776256200@omasgegenrechts-freiburg.de
SUMMARY:OMAS Bank
DESCRIPTION:Jeden Mittwoch zu Marktzeiten\, sitzen zwei OMAs in Weingarten\, jede auf einer Bank. Ob jung oder alt\, jede und jeder\, der reden möchte\, ist willkommen und kann sich neben der OMA auf das freie Kissen setzen. Die OMA hört ihr bzw. ihm gerne zu. \nFalls es regnet\, schneit oder zu kalt ist\, fällt OMAs Bank freilich aus.
URL:https://omasgegenrechts-freiburg.de/termine/omas-bank/2026-04-15/
LOCATION:Fritz Schieler Platz Weingarten\, Fritz Schieler Paltz Weingarten\, Freiburg
CATEGORIES:Omas Bank
END:VEVENT
BEGIN:VEVENT
DTSTART;TZID=Europe/Berlin:20260408T103000
DTEND;TZID=Europe/Berlin:20260408T123000
DTSTAMP:20260424T192819
CREATED:20260308T012745Z
LAST-MODIFIED:20260308T012745Z
UID:5269-1775644200-1775651400@omasgegenrechts-freiburg.de
SUMMARY:OMAS Bank
DESCRIPTION:Jeden Mittwoch zu Marktzeiten\, sitzen zwei OMAs in Weingarten\, jede auf einer Bank. Ob jung oder alt\, jede und jeder\, der reden möchte\, ist willkommen und kann sich neben der OMA auf das freie Kissen setzen. Die OMA hört ihr bzw. ihm gerne zu. \nFalls es regnet\, schneit oder zu kalt ist\, fällt OMAs Bank freilich aus.
URL:https://omasgegenrechts-freiburg.de/termine/omas-bank/2026-04-08/
LOCATION:Fritz Schieler Platz Weingarten\, Fritz Schieler Paltz Weingarten\, Freiburg
CATEGORIES:Omas Bank
END:VEVENT
BEGIN:VEVENT
DTSTART;TZID=Europe/Berlin:20260401T103000
DTEND;TZID=Europe/Berlin:20260401T123000
DTSTAMP:20260424T192819
CREATED:20260308T012745Z
LAST-MODIFIED:20260308T012745Z
UID:5268-1775039400-1775046600@omasgegenrechts-freiburg.de
SUMMARY:OMAS Bank
DESCRIPTION:Jeden Mittwoch zu Marktzeiten\, sitzen zwei OMAs in Weingarten\, jede auf einer Bank. Ob jung oder alt\, jede und jeder\, der reden möchte\, ist willkommen und kann sich neben der OMA auf das freie Kissen setzen. Die OMA hört ihr bzw. ihm gerne zu. \nFalls es regnet\, schneit oder zu kalt ist\, fällt OMAs Bank freilich aus.
URL:https://omasgegenrechts-freiburg.de/termine/omas-bank/2026-04-01/
LOCATION:Fritz Schieler Platz Weingarten\, Fritz Schieler Paltz Weingarten\, Freiburg
CATEGORIES:Omas Bank
END:VEVENT
BEGIN:VEVENT
DTSTART;TZID=Europe/Berlin:20260325T103000
DTEND;TZID=Europe/Berlin:20260325T123000
DTSTAMP:20260424T192819
CREATED:20260308T012745Z
LAST-MODIFIED:20260308T012745Z
UID:5267-1774434600-1774441800@omasgegenrechts-freiburg.de
SUMMARY:OMAS Bank
DESCRIPTION:Jeden Mittwoch zu Marktzeiten\, sitzen zwei OMAs in Weingarten\, jede auf einer Bank. Ob jung oder alt\, jede und jeder\, der reden möchte\, ist willkommen und kann sich neben der OMA auf das freie Kissen setzen. Die OMA hört ihr bzw. ihm gerne zu. \nFalls es regnet\, schneit oder zu kalt ist\, fällt OMAs Bank freilich aus.
URL:https://omasgegenrechts-freiburg.de/termine/omas-bank/2026-03-25/
LOCATION:Fritz Schieler Platz Weingarten\, Fritz Schieler Paltz Weingarten\, Freiburg
CATEGORIES:Omas Bank
END:VEVENT
BEGIN:VEVENT
DTSTART;TZID=Europe/Berlin:20260318T103000
DTEND;TZID=Europe/Berlin:20260318T123000
DTSTAMP:20260424T192819
CREATED:20260308T012745Z
LAST-MODIFIED:20260308T012745Z
UID:5266-1773829800-1773837000@omasgegenrechts-freiburg.de
SUMMARY:OMAS Bank
DESCRIPTION:Jeden Mittwoch zu Marktzeiten\, sitzen zwei OMAs in Weingarten\, jede auf einer Bank. Ob jung oder alt\, jede und jeder\, der reden möchte\, ist willkommen und kann sich neben der OMA auf das freie Kissen setzen. Die OMA hört ihr bzw. ihm gerne zu. \nFalls es regnet\, schneit oder zu kalt ist\, fällt OMAs Bank freilich aus.
URL:https://omasgegenrechts-freiburg.de/termine/omas-bank/2026-03-18/
LOCATION:Fritz Schieler Platz Weingarten\, Fritz Schieler Paltz Weingarten\, Freiburg
CATEGORIES:Omas Bank
END:VEVENT
BEGIN:VEVENT
DTSTART;TZID=Europe/Berlin:20260311T103000
DTEND;TZID=Europe/Berlin:20260311T123000
DTSTAMP:20260424T192819
CREATED:20260308T012745Z
LAST-MODIFIED:20260308T012914Z
UID:5067-1773225000-1773232200@omasgegenrechts-freiburg.de
SUMMARY:OMAS Bank
DESCRIPTION:Jeden Mittwoch zu Marktzeiten\, sitzen zwei OMAs in Weingarten\, jede auf einer Bank. Ob jung oder alt\, jede und jeder\, der reden möchte\, ist willkommen und kann sich neben der OMA auf das freie Kissen setzen. Die OMA hört ihr bzw. ihm gerne zu. \nFalls es regnet\, schneit oder zu kalt ist\, fällt OMAs Bank freilich aus.
URL:https://omasgegenrechts-freiburg.de/termine/omas-bank/2026-03-11/
LOCATION:Fritz Schieler Platz Weingarten\, Fritz Schieler Paltz Weingarten\, Freiburg
CATEGORIES:Omas Bank
END:VEVENT
BEGIN:VEVENT
DTSTART;TZID=Europe/Berlin:20260307T160000
DTEND;TZID=Europe/Berlin:20260307T180000
DTSTAMP:20260424T192819
CREATED:20260306T024913Z
LAST-MODIFIED:20260306T024913Z
UID:4978-1772899200-1772906400@omasgegenrechts-freiburg.de
SUMMARY:Haustürwahlmotivationsaktionen
DESCRIPTION:Bei der Aktion Haustürwahlmotivation klingeln Omas bei Menschen\, um sie\nzu motivieren wählen zu gehen. Außerdem\, und das ist ein wahrer\nTüröffner\, verteilen sie Informationen zur Landtagswahl. In der Tat\nhat sich einiges verändert\, was allgemein nicht bekannt ist. Siehe:\nWählen leicht gemacht \nWählen leicht gemacht \nDie Aktion findet in Weingarten statt\, weil dieses Viertel bei jeder\nWahl eine niedrige Wahlbeteiligung gepaart mit einem hohen Anteil für\neine rechtsextreme Partei aufweist. Außerdem wird die Aktion von der AG\nOMAS Bank koordiniert\, die in Weingarten aktiv ist. \nBis vor der Wahl werden die Omas bei ca. 1000 Wohnungen geklingelt\nhaben. Erfahrungsgemäß wird bei einem Drittel die Tür aufgemacht. Bei\nden anderen Fällen ist entweder niemand anwesend\, oder die Wohnung ist\neinfach nicht belegt. Selten wird gewollt nicht aufgemacht. Die\nReaktionen auf unser Informationsblatt ist überwiegend positiv. \nDD_OGR_Karte_VS \nAngaben zur Landtagswahl2026 in Weingarten
URL:https://omasgegenrechts-freiburg.de/termine/haustuerwahlmotivationsaktionen-2/
LOCATION:Fritz Schieler Platz Weingarten\, Fritz Schieler Paltz Weingarten\, Freiburg
END:VEVENT
BEGIN:VEVENT
DTSTART;TZID=Europe/Berlin:20260306T170000
DTEND;TZID=Europe/Berlin:20260306T190000
DTSTAMP:20260424T192819
CREATED:20260306T023009Z
LAST-MODIFIED:20260306T024224Z
UID:4970-1772816400-1772823600@omasgegenrechts-freiburg.de
SUMMARY:Haustürwahlmotivationsaktionen
DESCRIPTION:Bei der Aktion Haustürwahlmotivation klingeln Omas bei Menschen\, um sie\nzu motivieren wählen zu gehen. Außerdem\, und das ist ein wahrer\nTüröffner\, verteilen sie Informationen zur Landtagswahl. In der Tat\nhat sich einiges verändert\, was allgemein nicht bekannt ist. Siehe:\nWählen leicht gemacht \nWählen leicht gemacht \nDie Aktion findet in Weingarten statt\, weil dieses Viertel bei jeder\nWahl eine niedrige Wahlbeteiligung gepaart mit einem hohen Anteil für\neine rechtsextreme Partei aufweist. Außerdem wird die Aktion von der AG\nOMAS Bank koordiniert\, die in Weingarten aktiv ist. \nBis vor der Wahl werden die Omas bei ca. 1000 Wohnungen geklingelt\nhaben. Erfahrungsgemäß wird bei einem Drittel die Tür aufgemacht. Bei\nden anderen Fällen ist entweder niemand anwesend\, oder die Wohnung ist\neinfach nicht belegt. Selten wird gewollt nicht aufgemacht. Die\nReaktionen auf unser Informationsblatt ist überwiegend positiv. \nIm Anhang findest du auch eine der Postkarten\, vielleicht als\nBilduntermalung der Aktion. \nDD_OGR_Karte_VS \nAngaben zur Landtagswahl2026 in Weingarten \n 
URL:https://omasgegenrechts-freiburg.de/termine/haustuerwahlmotivationsaktionen/
LOCATION:Fritz Schieler Platz Weingarten\, Fritz Schieler Paltz Weingarten\, Freiburg
END:VEVENT
END:VCALENDAR