BEGIN:VCALENDAR
VERSION:2.0
PRODID:-//Omas gegen Rechts - Freiburg - ECPv6.15.20//NONSGML v1.0//EN
CALSCALE:GREGORIAN
METHOD:PUBLISH
X-WR-CALNAME:Omas gegen Rechts - Freiburg
X-ORIGINAL-URL:https://omasgegenrechts-freiburg.de
X-WR-CALDESC:Veranstaltungen für Omas gegen Rechts - Freiburg
REFRESH-INTERVAL;VALUE=DURATION:PT1H
X-Robots-Tag:noindex
X-PUBLISHED-TTL:PT1H
BEGIN:VTIMEZONE
TZID:Europe/Berlin
BEGIN:DAYLIGHT
TZOFFSETFROM:+0100
TZOFFSETTO:+0200
TZNAME:CEST
DTSTART:20250330T010000
END:DAYLIGHT
BEGIN:STANDARD
TZOFFSETFROM:+0200
TZOFFSETTO:+0100
TZNAME:CET
DTSTART:20251026T010000
END:STANDARD
BEGIN:DAYLIGHT
TZOFFSETFROM:+0100
TZOFFSETTO:+0200
TZNAME:CEST
DTSTART:20260329T010000
END:DAYLIGHT
BEGIN:STANDARD
TZOFFSETFROM:+0200
TZOFFSETTO:+0100
TZNAME:CET
DTSTART:20261025T010000
END:STANDARD
BEGIN:DAYLIGHT
TZOFFSETFROM:+0100
TZOFFSETTO:+0200
TZNAME:CEST
DTSTART:20270328T010000
END:DAYLIGHT
BEGIN:STANDARD
TZOFFSETFROM:+0200
TZOFFSETTO:+0100
TZNAME:CET
DTSTART:20271031T010000
END:STANDARD
END:VTIMEZONE
BEGIN:VEVENT
DTSTART;TZID=Europe/Berlin:20260426T140000
DTEND;TZID=Europe/Berlin:20260426T170000
DTSTAMP:20260426T014554
CREATED:20260320T171527Z
LAST-MODIFIED:20260320T171527Z
UID:5371-1777212000-1777222800@omasgegenrechts-freiburg.de
SUMMARY:Parade“Joe geht wählen“ und OB Wahl
DESCRIPTION:Liebe Aktive und Interessierte vom Freiburger Wahlkreis 100%\,nach 43 Jahren in Freiburg wurde Joe\, Mitgründer des Freiburger Wahlkreis 100%\, dieses Jahr eingebürgert und darf endlich hier wählen. Das möchten wir gemeinsam feiern! 🎉 \nAm Nachmittag der OB-Wahl\, dem 26. April\, begleiten wir ihn mit einer bunten\, lauten Parade durch die Stadt. Eine genauere – interne – Beschreibung der Aktion ist im Anhang\, sharepics/ Flyer kommen in den nächsten 1-2 Wochen. \nGleichzeitig führen wir\, wenn auch in einer eher kleineren Variante\, eine symbolische OB-Wahl durch. Gewählt werden kann dieses Mal online (QR-Code folgt!) sowie in unserem symbolischen Wahllokal am Theater Freiburg am Sa\, 25. Aprilund am Wahlsonntag 26. April\, jeweils von 10 bis 17 Uhr.
URL:https://omasgegenrechts-freiburg.de/termine/paradejoe-geht-waehlen-und-ob-wahl/
LOCATION:Theater-Vorplatz
CATEGORIES:Begegnungen
END:VEVENT
END:VCALENDAR